BEGIN:VCALENDAR
VERSION:2.0
PRODID:-//Bergkerk Deventer - ECPv6.15.11//NONSGML v1.0//EN
CALSCALE:GREGORIAN
METHOD:PUBLISH
X-WR-CALNAME:Bergkerk Deventer
X-ORIGINAL-URL:https://bergkerkdeventer.nl
X-WR-CALDESC:Evenementen voor Bergkerk Deventer
REFRESH-INTERVAL;VALUE=DURATION:PT1H
X-Robots-Tag:noindex
X-PUBLISHED-TTL:PT1H
BEGIN:VTIMEZONE
TZID:Europe/Amsterdam
BEGIN:DAYLIGHT
TZOFFSETFROM:+0100
TZOFFSETTO:+0200
TZNAME:CEST
DTSTART:20240331T010000
END:DAYLIGHT
BEGIN:STANDARD
TZOFFSETFROM:+0200
TZOFFSETTO:+0100
TZNAME:CET
DTSTART:20241027T010000
END:STANDARD
BEGIN:DAYLIGHT
TZOFFSETFROM:+0100
TZOFFSETTO:+0200
TZNAME:CEST
DTSTART:20250330T010000
END:DAYLIGHT
BEGIN:STANDARD
TZOFFSETFROM:+0200
TZOFFSETTO:+0100
TZNAME:CET
DTSTART:20251026T010000
END:STANDARD
BEGIN:DAYLIGHT
TZOFFSETFROM:+0100
TZOFFSETTO:+0200
TZNAME:CEST
DTSTART:20260329T010000
END:DAYLIGHT
BEGIN:STANDARD
TZOFFSETFROM:+0200
TZOFFSETTO:+0100
TZNAME:CET
DTSTART:20261025T010000
END:STANDARD
BEGIN:DAYLIGHT
TZOFFSETFROM:+0100
TZOFFSETTO:+0200
TZNAME:CEST
DTSTART:20270328T010000
END:DAYLIGHT
BEGIN:STANDARD
TZOFFSETFROM:+0200
TZOFFSETTO:+0100
TZNAME:CET
DTSTART:20271031T010000
END:STANDARD
END:VTIMEZONE
BEGIN:VEVENT
DTSTART;TZID=Europe/Amsterdam:20250614T150000
DTEND;TZID=Europe/Amsterdam:20250614T160000
DTSTAMP:20260425T154934
CREATED:20250216T145908Z
LAST-MODIFIED:20250325T200627Z
UID:10000231-1749913200-1749916800@bergkerkdeventer.nl
SUMMARY:De Blaak Broeders - Pianodubbelconcert
DESCRIPTION:Het Pianoduo Martijn en Stefan Blaak behoort tot de top van pianoduo’s van hun generatie. \n\n\n\nDe cum laude afgestudeerde broers gelden als specialisten in het spelen op twee piano’s en het quatre-mains spel. Zij kunnen u laten horen waarom deze vorm van musiceren eeuwen geleden al zo populair was. \n\n\n\nMuzikaal genot\, speelplezier en een visueel spektakel kunt u allemaal beleven bij deze twee excellerende musici.Het repertoire\, dat loopt van barok tot hedendaags\, biedt niet alleen schitterende originele werken \, maar ook transcripties van orkeststukken\, waardoor u een compositie op een heel nieuwe manier leert kennen. \n\n\n\nDe broers concerteren op vele podia in o.a. Nederland\, Duitsland\, België\, Oostenrijk\, Spanje\, Italië\, Frankrijk en de Verenigde Staten. Regelmatig zijn Martijn en Stefan Blaak te gast tijdens internationale festivals\, zoals het Grachtenfestival Amsterdam\, Le Festival international d’art lyrique d’Aix-en-Provence (Frankrijk)\, Green Lake Festival (Verenigde Staten)\, Sächsisches Mozartfest\, Leipziger Klaviersommer (Duitsland) en “La settimana d’arte di Cecina” (Italië).
URL:https://bergkerkdeventer.nl/evenement/pianodubbelconcert-door-de-blaak-broeders/
CATEGORIES:Zaterdagmiddagconcert
ATTACH;FMTTYPE=image/png:/wp-content/uploads/2025/02/blaakbroeders_.png
ORGANIZER;CN="Stichting Zaterdagmiddagconcerten Deventer":MAILTO:info@zaterdagmiddagconcertendeventer.nl
END:VEVENT
BEGIN:VEVENT
DTSTART;TZID=Europe/Amsterdam:20251018T150000
DTEND;TZID=Europe/Amsterdam:20251018T160000
DTSTAMP:20260425T154934
CREATED:20250701T125225Z
LAST-MODIFIED:20250701T143455Z
UID:10000266-1760799600-1760803200@bergkerkdeventer.nl
SUMMARY:Duo Verloop & Oostdam - piano & viool
DESCRIPTION:Menno Verloop en Daan Oostdam\, vormen samen een viool-piano duo. Ze wonen in Amsterdam waar ze ook  aan het Conservatorium hebben gestudeerd bij Ilya Grubert\, Frank Peters en Frank van de Laar. \n\n\n\nHet duo heeft een grote liefde voor het romantische repertoire en brengen ook graag onderbelichte stukken onder de aandacht. \n\n\n\nHet programma bestaat uit vioolsonates van Beethoven en Medtner\, en een combinatie van korte werken van Lili Boulanger en Wilhelm Peterson-Berger. \n\n\n\nMenno Verloop (2002) is op zesjarige leeftijd begonnen met vioolspelen. Hij heeft twee jaar les gekregen bij Ferdinand Kornet en vier jaar bij Mirjam Agtsteribbe\, en in het samenspel met zijn zus zijn liefde voor kamermuziek gevonden. Menno werd op twaalfjarige leeftijd toegelaten tot de Sweelinck Academie\, de jong-talentklas van het Conservatorium van Amsterdam\, waar hij drie jaar bij Lex Korff de Gidts en een jaar bij Ilya Grubert heeft gestudeerd. Hij heeft verscheidene prijzen gewonnen bij het Prinses Christina Concours en in 2018 gesoleerd met het Orkest van het Oosten. Na vier jaar bachelor viool bij prof. Grubert is hij in december 2023 geslaagd met het hoogst haalbare resultaat. Hij studeert nu Theorie der Muziek aan het CvA. \n\n\n\nDaan Oostdam (1997) behaalde in 2023 zijn master diploma aan het Conservatorium van Amsterdam\, waar hij studeerde bij Frank Peters\, en Frank van de Laar. In de afgelopen jaren heeft hij prijzen gewonnen op verschillende concoursen\, waaronder het Prinses Christina Concours\, Prix Dominique en het jong talenten-programma van ArtEZ. Daarnaast neemt hij regelmatig deel aan festivals zoals het Francigena International Arts Festival\, Internationaal kamermuziek festival Schiermonnikoog en de Internationaler Musiksommer Campus Cleve. In 2023 werd Daan uitgenodigd om deel te nemen aan l’Academie Musicale de Villecroze. Hij volgde lessen bij muzikale grootheden als Avedis Kouyoumdjian\, Lilya Zilberstein\, Jan Wijn en Alexandar Madzar dankzij de steun van muziekfonds Stringendo.
URL:https://bergkerkdeventer.nl/evenement/duo-verloop-oostdam-piano-viool/
CATEGORIES:Zaterdagmiddagconcert
ATTACH;FMTTYPE=image/png:/wp-content/uploads/2025/07/verloopoostdam-2.png
ORGANIZER;CN="Stichting Zaterdagmiddagconcerten Deventer":MAILTO:info@zaterdagmiddagconcertendeventer.nl
END:VEVENT
BEGIN:VEVENT
DTSTART;TZID=Europe/Amsterdam:20251115T150000
DTEND;TZID=Europe/Amsterdam:20251115T160000
DTSTAMP:20260425T154934
CREATED:20250701T125707Z
LAST-MODIFIED:20250701T125707Z
UID:10000267-1763218800-1763222400@bergkerkdeventer.nl
SUMMARY:UMA Kamerorkest
DESCRIPTION:Het UMA-Kamerorkest is opgericht in 1994. UMA staat voor: Utrechtse Muziekacademie. Het orkest is bedoeld voor goede\, enthousiaste amateurmusici. Sinds de oprichting is Marco Bons de dirigent. Het UMA heeft als doel om op hoog muzikaal niveau interessante programma’s in te studeren en uit te voeren. De UMA behoort tot de betere amateurorkesten in Utrecht.Voor het concert in Deventer bestaat het orkest uit: 43 spelers (30 strijkers\, 12 blazers\, 1 slagwerker). \n\n\n\nProgramma: \n\n\n\n\nMaurice Ravel – Fanfare\n\n\n\nEmilie Mayer – Symfonie no. 1\n\n\n\nGerald Finzi – Love’s Labour’s Lost\, Suite from the incidental music Op. 28b\n\n\n\n\nDe dirigent is Marco Bons en is sinds de oprichting in 1994 aan de UMA verbonden als dirigent en artistiek leider. In 2009 won hij de eerste prijs op het Blue Danube International Opera Conducting Concours te Burgas (Bulgarije) en in 2015 de tweede prijs bij de Conducting Competition van het Atlantic Coast Festival in Portugal. Vanaf juni 2010 dirigeert hij operaproducties aan de operahuizen van o.a. Boekarest\, Belgrado en Banská Bystrica (Slowakije). Zijn affiniteit met opera komt in Nederland o.a. tot uiting bij het operagezelschap ‘Bel Canto’ te Velsen en de ‘Rotterdamse Opera’. Van beide gezelschappen is Marco Bons artistiek leider. In Den Haag is hij dirigent van het symfonieorkest ‘Carpe Diem’ en in Nijmegen heeft hij de leiding over het blazersensemble ‘La Spiritata’.
URL:https://bergkerkdeventer.nl/evenement/uma-kamerorkest/
CATEGORIES:Zaterdagmiddagconcert
ATTACH;FMTTYPE=image/png:/wp-content/uploads/2025/07/uma.png
ORGANIZER;CN="Stichting Zaterdagmiddagconcerten Deventer":MAILTO:info@zaterdagmiddagconcertendeventer.nl
END:VEVENT
BEGIN:VEVENT
DTSTART;TZID=Europe/Amsterdam:20260110T150000
DTEND;TZID=Europe/Amsterdam:20260110T160000
DTSTAMP:20260425T154934
CREATED:20251107T144947Z
LAST-MODIFIED:20251107T165706Z
UID:10000289-1768057200-1768060800@bergkerkdeventer.nl
SUMMARY:Nieuwjaarsconcert met het Nymphéas Trombone Kwartet
DESCRIPTION:Aan het einde van zijn leven schilderde de Franse impressionist Claude Monet een aantal werken die samen de Nymphéas-serie (waterlelies) genoemd worden. De voorliefde voor het Franse impressionisme die de trombonisten van het Nymphéas Trombone Quartet delen\, zorgt ervoor dat zij deze naam met trots dragen. \n\n\n\nHet kwartet bestaat uit Niels Jacobs (1999)\, Wilco Kamminga (1998)\, Arjan Linker (2000) en Tim Ouwejan (2000)\, die elkaar in 2015 ontmoetten. Vanaf 2018 studeerden de vier gelijktijdig aan het Conservatorium van Amsterdam in de gerenommeerde tromboneklas van Jörgen van Rijen\, Pierre Volders\, Remko de Jager en Bart van Lier. Vanwege een sterke muzikale en vriendschappelijke connectie besloten ze kort daarna samen het Nymphéas Trombone Quartet te vormen. \n\n\n\nDit wordt niet een concert zoals u dat gewend bent. Nymphéas gebruikt geen van tevoren vastgesteld programma\, maar ze besluit op het podium wat ze gaan spelen\, samen met u!   \n\n\n\nOp het menu staat een groot scala aan muziek: van renaissance tot romantiek\, van impressionisme tot jazz\, en nog meer. Zij trekken alles wat ze hebben uit de kast om een concert in elkaar te zetten dat op maat gemaakt is voor de fijnproevers in de zaal. Dus ga lekker zitten en laat u  compleet verrassen. Het wordt in ieder geval een unieke ervaring! \n\n\n\nHet kwartet speelde onder andere op het Prinsengrachtconcert\, in het Concertgebouw\, op het Grachtenfestival en op nationale televisie bij Podium Witteman en het Lenteconcert van AVROTROS. Naast de vele optredens heeft het kwartet ook een cd opgenomen met Frans impressionistisch werk en Nederlandse nieuwe muziek met electronics: Orange\, Blue and Pink. De leden uit het trombonekwartet bekleden vaste posities in het Radio Filharmonisch Orkest en het Balletorkest. Daarnaast zijn ze regelmatig actief in onder meer het Koninklijk Concertgebouworkest\, het Rotterdams Philharmonisch Orkest\, het Nederlands Philharmonisch Orkest\, en het Nederlands Blazers Ensemble\, en ondernemen onafhankelijk van elkaar projecten met eigen ensembles en initiatieven zoals het Nachtlicht Ensemble en het Sweelinck Koperkwintet.
URL:https://bergkerkdeventer.nl/evenement/nieuwjaarsconcert-met-het-nympheas-trombone-kwartet/
CATEGORIES:Zaterdagmiddagconcert
ATTACH;FMTTYPE=image/png:/wp-content/uploads/2025/11/Schermafbeelding-2025-11-07-154617.png
ORGANIZER;CN="Stichting Zaterdagmiddagconcerten Deventer":MAILTO:info@zaterdagmiddagconcertendeventer.nl
END:VEVENT
BEGIN:VEVENT
DTSTART;TZID=Europe/Amsterdam:20260207T150000
DTEND;TZID=Europe/Amsterdam:20260207T160000
DTSTAMP:20260425T154934
CREATED:20251107T145219Z
LAST-MODIFIED:20260129T185716Z
UID:10000290-1770476400-1770480000@bergkerkdeventer.nl
SUMMARY:Barock Sommer
DESCRIPTION:U kunt genieten van balletmuziek uit ‘Don Juan’\, de legendarische rokkenjager\, van Christoph Willibald Gluck. Deze componist was in de 18e eeuw beroemd vanwege zijn gedurfde veranderingen bij opera-uitvoeringen. Niet alleen zijn eigen ‘Orfeo et Euridice’ was heel vernieuwend\, maar ook dit ballet ‘Don Juan’ was revolutionair omdat de dansers ineens een belangrijke rol kregen. Zij beeldden nu het verhaal uit\, en dat was nog nooit eerder gebeurd. Want dans werd altijd gezien als iets vermakelijks\, niet als iets serieus. Een echte avonturier dus\, die Gluck. \n\n\n\nDon Juan’s losbandigheid inspireerde vele anderen naast Gluck. Ook Mozart componeerde schitterende muziek bij dit verhaal in zijn wereldberoemde opera ‘Don Giovanni’. Bariton Bas Cornelissen zal twee aria’s uit deze opera zingen\, waarvan één met de welbekende tokkelende begeleiding op mandoline. Bovendien zingt hij nog een pareltje uit ‘Cosi fan Tutte’ en wordt afgesloten met een lied uit ‘Iphegenie en Tauride’. Dit komt uit een opera van Gluck en sluit aan bij de eeuwige thema’s van Don Juan: verleiding\, liefde\, vrijheid\, moraal en noodlot. \n\n\n\nDaarnaast speelt Barock Sommer een korte symfonie van de Bohemer Johann Baptist Vanhal\, die bij zijn aankomst in Wenen Gluck nog heeft ontmoet. Waar zouden ze het over hebben gehad? \n\n\n\n\nChristoph Willibald Gluck: ‘Don Juan’\, balletmuziek (delen hieruit)\n\n\n\nWolfgang Amadeus Mozart: Aria’s uit ‘Don Giovanni’ en ‘Cosi fan Tutte’\n\n\n\nJohann Baptist Vanhal: Sinfonia in d mineur\n\n\n\nChristoph Willibald Gluck: Aria uit ‘Iphigenie en Tauride‘\n\n\n\n\nDirigent: Fátima Hernández \n\n\n\nSolist: bariton Bas Cornelissen. \n\n\n\nBarock Sommer werd ruim 20 jaar geleden opgericht en bestaat uit enthousiaste (amateur)musici die op bijna-professioneel niveau de verworvenheden van de authentieke uitvoeringspraktijk tot leven brengen. Zo spelen de hoornisten bijvoorbeeld op natuurhoorns en de strijkers met speciale strijkstokken die passen bij de periode waarin de muziek is gecomponeerd. Het orkest speelt naast bekende werken ook veel onbekende stukken die speciaal voor deze uitvoeringen uitgewerkt worden. Dit zijn vaak composities van componisten die een band hebben met de Nederlandse cultuur in de 18e eeuw. \n\n\n\nDe musici komen twee keer per jaar bij elkaar om na een paar weken het project af te sluiten met twee concerten\, waarvan één in Amsterdam en één op een mooie plek in Nederland. Er wordt ook graag gespeeld in musea\, zoals in Den Haag en Gouda. Soms worden er extra concerten gegeven in bijvoorbeeld een ouderencentrum of strandpaviljoen. \n\n\n\n Fatimá Judith Hernández Silva werd geboren in San Luis Potosí\, Mexico. Daar voltooide zij haar studie moderne viool aan het Conservatorium van Xalapa: Universidad Veracruzana. Daarna studeerde zij af op barokviool\, aan het Conservatorium van Amsterdam bij Shunske Sato en Sayuri Yamagata.  \n\n\n\nFátima was docent aan “Orquestando Armonía”\, een sociaal programma dat gratis muzieklessen aanbood aan kinderen uit kwetsbare wijken in de stad San Luis Potosí. Ze dirigeerde ensembles waar kinderen hun muzikale en sociale vaardigheden konden ontwikkelen. Tijdens de pandemie van 2020 gaf ze online lessen aan geselecteerde muzikanten uit Veracruz dankzij een sociaal programma van de deelstaatregering om de kinderen gemotiveerd te houden in die moeilijke tijden. \n\n\n\nTegenwoordig speelt ze met de Nieuwe Philharmonie Utrecht onder leiding van Johannes Leertouwer\, de New Dutch Academy onder leiding van Simon Murphy\, het Mexicaanse folkloretrio Zorzal\, het viool-pianoduo Lapislázuli en de traditionele mariachi Tierra Caliente\, evenals met vele andere kleine ensembles in Nederland en Duitsland. \n\n\n\n\n\n\n\n\n\n\n\n  Fátima Hernández                                       Bas Cornelissen  (© Dieuwertje Bravenboer)
URL:https://bergkerkdeventer.nl/evenement/barock-sommer/
CATEGORIES:Zaterdagmiddagconcert
ATTACH;FMTTYPE=image/png:/wp-content/uploads/2025/11/Schermafbeelding-2025-11-07-155026.png
ORGANIZER;CN="Stichting Zaterdagmiddagconcerten Deventer":MAILTO:info@zaterdagmiddagconcertendeventer.nl
END:VEVENT
BEGIN:VEVENT
DTSTART;TZID=Europe/Amsterdam:20260321T150000
DTEND;TZID=Europe/Amsterdam:20260321T160000
DTSTAMP:20260425T154934
CREATED:20251107T150006Z
LAST-MODIFIED:20251125T204828Z
UID:10000291-1774105200-1774108800@bergkerkdeventer.nl
SUMMARY:Jan Kleinbussink & sopraan Johannette Zomer - Bach Orgelconcert
DESCRIPTION:Jaarlijks orgelconcert op het Holtgräve-orgel uit 1843 in de Bergkerk door Jan Kleinbussink ter herdenking van de geboortedag van J.S. Bach op 21 maart 1685 \n\n\n\nJan Kleinbussink studeerde orgel\, piano\, muziektheorie en koor- en orkestdirectie. In 1976 behaalde hij de de Prix d ‘excellence cum laude voor orgel\, met onderscheiding voor solospel en improvisatie. Daarna vervolgde hij zijn studie in Wenen bij Prof. Anton Heiller en studeerde hij klavecimbel bij Ton Koopman te Amsterdam. Ook deze studie werd met een einddiploma afgerond. Meer en meer volgde een specialisatie op het gebied van de muziektheorie en uitvoeringspraktijk van de renaissance- en barokmuziek. \n\n\n\nJan Kleinbussink werkte vanaf de oprichting gedurende 15 jaar als continuospeler bij het vermaarde Amsterdam Baroque Orchestra en Choir onder leiding van Ton Koopman. Als zodanig was hij intensief betrokken bij prestigieuze opname-project van alle Bach Cantates. \n\n\n\nHij is inmiddels aan de Academie der Kunsten/Universiteit Leiden verbonden voor het begeleiden van promovendi in het DocARTES-traject (doctoraal promotie in de Kunsten) en is zelf bezig met promoveren\, naast het voortzetten van zijn werkzaamheden als musicus – organist\, klavecinist en dirigent. Na 43 dienstjaren nam hij op 8 september 2013 afscheid als cantor-organist aan de Grote Kerk. \n\n\n\nNa eerst enige jaren als microbiologisch analiste te hebben gewerkt\, begon sopraan Johannette Zomer haar zangopleiding bij Charles van Tassel aan het Sweelinck Conservatorium te Amsterdam\, alwaar ze haar zij haar diploma Uitvoerend Musicus behaalde. Sindsdien ontving ze coaching van Diane Forlano (London) en Marlena Malas (New York). \n\n\n\nHaar operadebuut maakte zij bij de Nationale Reisopera in oktober 1996\, toen ze de page Tebaldo vertolkte in Guiseppe Verdi’s Don Carlo. Sindsdien stond zij meerdere malen op de operabühne in rollen als Belinda\, Pamina\, Euridice\, Dalinda en Ilia maar ook als Mélisande en Amanda (uit Ligeti’s ‘Le Grand Macabre’).
URL:https://bergkerkdeventer.nl/evenement/bach-orgelconcert-door-jan-klein-bussink-met-sopraan-johannette-zomer/
CATEGORIES:Zaterdagmiddagconcert
ATTACH;FMTTYPE=image/jpeg:/wp-content/uploads/2025/11/orgelrechtsuitsnede1.jpg
ORGANIZER;CN="Stichting Zaterdagmiddagconcerten Deventer":MAILTO:info@zaterdagmiddagconcertendeventer.nl
END:VEVENT
BEGIN:VEVENT
DTSTART;TZID=Europe/Amsterdam:20260509T150000
DTEND;TZID=Europe/Amsterdam:20260509T160000
DTSTAMP:20260425T154934
CREATED:20251125T212206Z
LAST-MODIFIED:20251125T212206Z
UID:10000298-1778338800-1778342400@bergkerkdeventer.nl
SUMMARY:Dokwerk Saxofoonkwartet
DESCRIPTION:Een vierkoppige draak\, zo zou je het Dokwerk Saxofoonkwartet kunnen voorstellen: vier sterke stemmen\, die als één ademhalen. En ja\, soms spuwt deze draak vuur. \n\n\n\nDokwerk staat bekend om hun aanstekelijke energie en onverschrokken muzikaliteit en duikt regelmatig op in de winnaars van internationale kamermuziekconcoursen. Hoogtepunten zijn onder meer: 1e prijs in de categorie kamermuziek van de Internationale Wedstrijd “Vítor Santos” 2021 (Portugal)\, 1e prijs van de Italiaanse Wedstrijd voor hedendaagse muziek ‘Reate’ (Italië)\, 1e en de Podiumprijs tijdens het Nederlandse ‘Kamermuziek Concours Gelre 2022’ (Nederland). In 2025 wonnen zij de Publieksprijs op het Schiermonnikoog Festival. In het seizoen 2025/26 toeren zij langs de 14 toonaangevende concertzalen van Nederland als finalisten van de Dutch Classical Talent Award. \n\n\n\nDe vier saxofonisten\, Lisa Schreiber\, Jen-Hing WU\, Ileana Termini\, en Pedro Silva\, afkomstig uit resp. Duitsland\, Taiwan\, Italië en Portugal\, ontmoetten elkaar in Amsterdam\, waar ze – geïnspireerd door hun nieuwe gedeelde thuis – hun ensemble een Nederlandse naam gaven: Dokwerk. Sindsdien zijn ze een nieuwe generatie van de Nederlandse saxofoonschool gaan vertegenwoordigen – die ze omarmen en uitbreiden door middel van avontuurlijke en provocerende programmering. Dokwerk verrukt het publiek met voorstellingen vol pit en verrassing. Lisa\, Jen-Hong\, Ileana en Pedro geloven in het creëren van een intieme band met hun luisteraars – die net zo goed inslaat als de bliksem inslaat als hen met tederheid naar het puntje van hun stoel kietelt. \n\n\n\nZe traden op in iconische podia als het Concertgebouw Amsterdam\, Muziekgebouw aan ’t IJ\, TivoliVredenburg\, De Doelen en Muziekgebouw Eindhoven\, en zijn regelmatig te zien op de Nederlandse nationale radio en televisie. \n\n\n\nIn 2022 sloot Dokwerk zich aan bij de prestigieuze Nederlandse Strijkkwartet Academie (NSKA) – een baanbrekend en krachtig hoofdstuk in hun reis. Onder leiding van artistiek leider Marc Danel\, en ondergedompeld in de rijke traditie van het strijkkwartetspel\, geven ze verder vorm aan hun eigen identiteit als saxofoonkwartet – een kwartet dat de traditie eert en tegelijkertijd nieuwe artistieke wegen inslaat. \n\n\n\nGeworteld in diverse culturen en gedreven door een gedeelde artistieke geest\, wil Dokwerk een constante plaats innemen voor de klassieke saxofoon in de muziek van vandaag en morgen!
URL:https://bergkerkdeventer.nl/evenement/dokwerk-saxofoonkwartet/
CATEGORIES:Zaterdagmiddagconcert
ATTACH;FMTTYPE=image/png:/wp-content/uploads/2025/11/Schermafbeelding-2025-11-25-222019.png
ORGANIZER;CN="Stichting Zaterdagmiddagconcerten Deventer":MAILTO:info@zaterdagmiddagconcertendeventer.nl
END:VEVENT
END:VCALENDAR