BEGIN:VCALENDAR
VERSION:2.0
PRODID:-//Bergkerk Deventer - ECPv6.15.11//NONSGML v1.0//EN
CALSCALE:GREGORIAN
METHOD:PUBLISH
X-WR-CALNAME:Bergkerk Deventer
X-ORIGINAL-URL:https://bergkerkdeventer.nl
X-WR-CALDESC:Evenementen voor Bergkerk Deventer
REFRESH-INTERVAL;VALUE=DURATION:PT1H
X-Robots-Tag:noindex
X-PUBLISHED-TTL:PT1H
BEGIN:VTIMEZONE
TZID:Europe/Amsterdam
BEGIN:DAYLIGHT
TZOFFSETFROM:+0100
TZOFFSETTO:+0200
TZNAME:CEST
DTSTART:20250330T010000
END:DAYLIGHT
BEGIN:STANDARD
TZOFFSETFROM:+0200
TZOFFSETTO:+0100
TZNAME:CET
DTSTART:20251026T010000
END:STANDARD
BEGIN:DAYLIGHT
TZOFFSETFROM:+0100
TZOFFSETTO:+0200
TZNAME:CEST
DTSTART:20260329T010000
END:DAYLIGHT
BEGIN:STANDARD
TZOFFSETFROM:+0200
TZOFFSETTO:+0100
TZNAME:CET
DTSTART:20261025T010000
END:STANDARD
BEGIN:DAYLIGHT
TZOFFSETFROM:+0100
TZOFFSETTO:+0200
TZNAME:CEST
DTSTART:20270328T010000
END:DAYLIGHT
BEGIN:STANDARD
TZOFFSETFROM:+0200
TZOFFSETTO:+0100
TZNAME:CET
DTSTART:20271031T010000
END:STANDARD
END:VTIMEZONE
BEGIN:VEVENT
DTSTART;TZID=Europe/Amsterdam:20261128T200000
DTEND;TZID=Europe/Amsterdam:20261128T213000
DTSTAMP:20260422T033019
CREATED:20260409T104819Z
LAST-MODIFIED:20260409T104820Z
UID:10000315-1795896000-1795901400@bergkerkdeventer.nl
SUMMARY:Misa Criolla - Kamerkoor Stampij m.m.v. Javier Rodriguez & Nicolas Diez
DESCRIPTION:Entree € 30 / 25  ||  Klik hier voor ticketverkoop\n\n\n\n \n\n\n\nMisa Criolla van Ariel Ramírez in Nederland:Kamerkoor Stampij brengt legendarisch werk in twee voorstellingen naar Deventer \n\n\n\nKomende november brengt het gerenommeerde Kamerkoor Stampij\, onder leiding van dirigent Hans Tijssen\, de wereldberoemde Misa Criolla van Ariel Ramírez naar Nederland. Zeven uitvoeringen waarvan er twee op zaterdag 28 november in de Bergkerk plaatsvinden. \n\n\n\nDe Misa Criolla\, gecomponeerd door de Argentijnse muzieklegende Ariel Ramírez\, bestaat dit jaar 62 jaar en heeft sinds de première wereldwijd zijn plaats veroverd als een geliefd en iconisch muziekstuk. Het werk wordt nog steeds vaak uitgevoerd en is geliefd bij een breed publiek. Het Kamerkoor Stampij voegt hier een extra dimensie aan toe door deze mis te combineren met Navidad Nuestra\, een ander meesterwerk van Ramírez. Daarnaast zijn het koor en de Argentijnen te horen in solistische bijdragen. \n\n\n\nDe uitvoeringen worden begeleid door de Argentijnse musici Nicolas Diez en Javier Rodríguez\, die samen al jarenlang verantwoordelijk zijn voor authentieke vertolkingen van Ramírez’ muziek. Ramírez zelf beschouwde Rodríguez’ stem als zijn favoriete voor uitvoeringen van de Misa Criolla. De samenwerking van Stampij en de Argentijnen staat garant voor een onvergetelijke ervaring\, waarin klassieke muziek en Argentijnse folklore op sublieme wijze samenkomen. \n\n\n\nConcerten \n\n\n\n\nZaterdag 28 november\, 15.00 uur – Matinee in de Bergkerk\, Deventer\n\n\n\nZaterdag 28 november\, 20.00 uur – Avondvoorstelling Bergkerk\, Deventer\n\n\n\n\nTickets en meer informatie zijn beschikbaar via www.huygensmusic.nl. \n\n\n\nOver Kamerkoor Stampij \n\n\n\nKamerkoor Stampij is een ensemble van semiprofessionele zangers\, gevestigd in Zwolle. Het koor staat bekend om zijn veelzijdigheid\, hoge artistieke kwaliteit en avontuurlijke muziekproducties waarin beleving centraal staat. Door te kiezen voor passende locaties en prikkelend repertoire\, maakt Stampij van koormuziek een meeslepende ervaring die een breed publiek weet te raken.
URL:https://bergkerkdeventer.nl/evenement/misa-criolla-kamerkoor-stampij-m-m-v-javier-rodriguez-nicolas-diez-2/
CATEGORIES:Concert
ATTACH;FMTTYPE=image/jpeg:/wp-content/uploads/2025/06/foto-website-bergkerk-klein-1.jpg
END:VEVENT
END:VCALENDAR