BEGIN:VCALENDAR
VERSION:2.0
PRODID:-//Bergkerk Deventer - ECPv6.15.11//NONSGML v1.0//EN
CALSCALE:GREGORIAN
METHOD:PUBLISH
X-ORIGINAL-URL:https://bergkerkdeventer.nl
X-WR-CALDESC:Evenementen voor Bergkerk Deventer
REFRESH-INTERVAL;VALUE=DURATION:PT1H
X-Robots-Tag:noindex
X-PUBLISHED-TTL:PT1H
BEGIN:VTIMEZONE
TZID:Europe/Amsterdam
BEGIN:DAYLIGHT
TZOFFSETFROM:+0100
TZOFFSETTO:+0200
TZNAME:CEST
DTSTART:20230326T010000
END:DAYLIGHT
BEGIN:STANDARD
TZOFFSETFROM:+0200
TZOFFSETTO:+0100
TZNAME:CET
DTSTART:20231029T010000
END:STANDARD
BEGIN:DAYLIGHT
TZOFFSETFROM:+0100
TZOFFSETTO:+0200
TZNAME:CEST
DTSTART:20240331T010000
END:DAYLIGHT
BEGIN:STANDARD
TZOFFSETFROM:+0200
TZOFFSETTO:+0100
TZNAME:CET
DTSTART:20241027T010000
END:STANDARD
BEGIN:DAYLIGHT
TZOFFSETFROM:+0100
TZOFFSETTO:+0200
TZNAME:CEST
DTSTART:20250330T010000
END:DAYLIGHT
BEGIN:STANDARD
TZOFFSETFROM:+0200
TZOFFSETTO:+0100
TZNAME:CET
DTSTART:20251026T010000
END:STANDARD
END:VTIMEZONE
BEGIN:VEVENT
DTSTART;TZID=Europe/Amsterdam:20240421T110000
DTEND;TZID=Europe/Amsterdam:20240524T170000
DTSTAMP:20260421T103030
CREATED:20240306T143310Z
LAST-MODIFIED:20240514T104237Z
UID:10000168-1713697200-1716570000@bergkerkdeventer.nl
SUMMARY:"Zien\, horen\, voelen: de kerk klinkt" - Sibyl Heijnen
DESCRIPTION:Beeldend kunstenaar Sibyl Heijnen plaatst de prachtige Bergkerk in een nieuwe context. Door hergebruikte materialen toe te passen in haar kunst ontstaat er een verrassende dialoog over duurzaamheid. Hergebruik heeft een dubbele boodschap en functie: het laat de schoonheid van het materiaal zien en benadrukt de eeuwige kringloop van materie. Beleef en beïnvloed de dynamische ruimte door over en langs het pad van blik\, kunstgras\, vertakkingen en groen te wandelen en word bewust van de impact van de mens op de natuur. Zie\, hoor en voel de ziel van de Bergkerk.Naast de reguliere openingstijden\, worden er diverse evenementen georganiseerd in het decor van de kunstinstallatie.Wandel samen met Sibyl Heijnen door de kerk en luister samen naar de klanken gecomponeerd door Nicholas Robert Thayer.  \n\n\n\nInto the MysticEx monnik en wereldmuziek producer Henk van Glabbeek neemt je met Into the Mystic via zijn authentieke blaas- en snaarinstrumenten en zang mee op reis naar het hart. \n\n\n\nwoensdag 15 mei; 20: 00 uur (inloop 19:30 uur) \n\n\n\nEntree € 15 /  Klik hier voor ticketverkoop\n\n\n\n \n\n\n\nYoga/Ligconcert Sophie HofmanVier het Keltische jaarfeest Beltane mee; de overgang van lente naar zomer. Het is een tijd waarin we ons bewust kunnen worden van ons eigen innerlijke groeiproces en ons kunnen openstellen voor de magie en schoonheid van het leven. Tijd om de periode van licht te vieren\, het vuur in onszelf aan te wakkeren en te stralen als de zon. Dit doen we met yoga en meditatie door Sophie Hofman\, voorafgaand aan het ligconcert met live muziek en zang van Krystl. \n\n\n\nVoor meer informatie over dit evenement en het Keltische jaarfeest Beltane: soof.nu \n\n\n\nDonderdag 16 mei. Van 19:00 – 21:30 uur (18:45 uur inloop) \n\n\n\n€ 28\,- (zelf meenemen: yogamat\, kussen\, deken en flesje water) \n\n\n\nEntree € 28 /  Klik hier voor ticketverkoop\n\n\n\nWandelen door de BergkerkWandel samen met Sibyl Heijnen door de kerk en ga met haar in gesprek. \n\n\n\nmiddagwandeling – woensdag 22 mei van 16 -17 uurGratis. Wil je hier bij zijn? Stuur dan een mailtje naar simon@sibylheijnen.com \n\n\n\nHet broze paradijsHet Deventer Vocaal Ensemble presenteert ‘Het broze paradijs’; een concert in drie delen over onze veranderende wereld\, waarbij het koor door de Bergkerk beweegt en gebruik maakt van de speciale omgeving. \n\n\n\nvrijdag 24 mei 20:30 uur \n\n\n\nKaartverkoop en meer informatie: www.deventervocaalensemble.nl \n\n\n\nEntree € 20 /  Klik hier voor ticketverkoop\n\n\n\nKijk voor meer informatie en tickets op www.sibylheijnen.com
URL:https://bergkerkdeventer.nl/evenement/sibyl-heijnen-zien-horen-voelen-de-kerk-klinkt/
CATEGORIES:Expositie
ATTACH;FMTTYPE=image/png:/wp-content/uploads/2024/03/sibyl2.png
ORGANIZER;CN="Sibyl Heijnen":MAILTO:info@sibylheijnen.com
END:VEVENT
BEGIN:VEVENT
DTSTART;TZID=Europe/Amsterdam:20240512T150000
DTEND;TZID=Europe/Amsterdam:20240512T160000
DTSTAMP:20260421T103030
CREATED:20240309T095408Z
LAST-MODIFIED:20240309T102051Z
UID:10000170-1715526000-1715529600@bergkerkdeventer.nl
SUMMARY:"Bridge to Bach" - Deventer Kamer Orkest
DESCRIPTION:Entree €  15.00 / 10.00  / 7.50 //  Klik hier voor ticketverkoop\n\n\n\n \n\n\n\n\n\n\n\nBridge to Bach – met jong talent Zoey Dor\n\n\n\n**Zaterdag 11 mei\, 20:00 uur in Zutphen in de Wijngaard en op zondag 12 mei om 15:00 uur in de Bergkerk te Deventer. ** \n\n\n\nF. Bridge – Suite voor strijkorkest in e-klein (1910)\n\n\n\nFrank Bridge’s Suite voor strijkorkest in e-klein (1910) weerspiegelt een melodische pracht die later plaatsmaakte voor zijn experimenten met de atonale stijl van Schoenberg. Hoewel aanvankelijk onopgemerkt\, groeide de suite uit tot een van zijn meest gevierde werken. Bridge\, afkomstig uit een muzikaal gezin\, speelde zowel viool als altviool en dirigeerde later gerenommeerde orkesten in zowel het Verenigd Koninkrijk als de VS. Zijn band met Benjamin Britten\, zijn enige leerling\, was als een vader-zoonrelatie. Ondanks zijn vakmanschap worstelde Bridge met de weinige erkenning als musicus door zijn tijdgenoten\, zoals blijkt uit zijn hartverscheurende brief aan de Royal College of Music in 1933. \n\n\n\nC.Ph.E.Bach – Celloconcert in A mineur (1750)\, soliste Zoey Dor\n\n\n\nCarl Philipp Emanuel Bach\, de begaafde zoon van J.S. Bach was de eerste 30 jaar werkzaam aan het hof van Frederik de Grote\, waar zijn charmante en levendige persoonlijkheid floreerde. Zijn celloconcert in A mineur uit 1750\, doordrenkt met rococo-invloeden\, weerspiegelt een verfrissende reactie op zijn vaders serieuze stijl. Later\, als kapelmeester in Hamburg\, schreef hij voornamelijk kerkmuziek\, waarmee hij zijn eigen unieke erfenis creëerde. \n\n\n\nA. Roussel – Sinfonietta voor strijkorkest\, opus 52 (1934)\n\n\n\nRoussel’s muziek weerspiegelt zijn boeiende levenspad\, van marineofficier tot gepassioneerde componist. Onder invloed van d’Indy\, Franck\, Debussy en Stravinsky creëerde hij een meesterwerk dat met een bijzondere première\, uitgevoerd door het Orchestre féminin de Paris\, de harten van het publiek veroverde. Het unieke verzoek voor een vrouwelijke contrabassist voegde een opmerkelijk hoofdstuk toe aan de glans van dit muzikale meesterwerk. \n\n\n\nG.P. Telemann – Suite in G mineur (ca. 1730)\n\n\n\nGeorg Philipp Telemann’s levensverhaal is totaal anders dan die van zijn tijdgenoot J.S.Bach. Telemann werd enorm gewaardeerd en overal met open armen ontvangen. Al vroeg kwam hij in contact met G.F.Händel in Halle en later kreeg hij een invloedrijke rol in Leipzig om uiteindelijk als stadsmusicus in Hamburg te eindigen. Jaren later zou C.Ph.E.Bach hem daar opvolgen. Hij schreef meer dan 3000 werken: dat is meer dan Bach en Händel samen componeerden! In de Suite in G mineur spat het speelplezier ervan af. Maar hoe kan het ook anders met titels als Polonaise\, Musette en Harlequinade? \n\n\n\nOver soliste Zoey Dor\n\n\n\nZoey Dor begon met vioolspelen toen ze net kon staan\, ze kreeg les van haar moeder. Toen ze echter een cd van Jacqueline du Pré met Brahms hoorde\, wilde ze direct overstappen naar de cello. Na jaren zeuren kreeg ze op haar achtste verjaardag een cello. Zoey ging op les bij Like en Yke Viersen en sinds 2021 studeert ze bij Karlien Bartels aan de Jong Talentopleiding van het ArtEZ Conservatorium. Ze doet dit jaar eindexamen op de Vrije School in Amsterdam. \n\n\n\nIn 2023 won Zoey de eerste prijs op het Britten Celloconcours\, als jongste in haar categorie\, ze speelde in de Spiegelzaal voor Radio 4 en was te gast als ‘Jonge Held’ bij Podium Klassiek. Ze heeft lessen en masterclasses gevolgd bij Quirine Viersen\, Florent Maigrot\, Monique Bartels en Gregor Horsch en ze maakt deel uit van het Bosmans Kwartet. Zoey is aanvoerder in het Nederlands Jeugd Strijkorkest (NJSO) dat onlangs de eerste prijs won op het internationale Summa Cum Laude Festival in Wenen. \n\n\n\nKaartverkoop\n\n\n\nKaarten á € 15\,00 zijn online én bij de leden én de locatie verkrijgbaar. \n\n\n\nVrienden van het Deventer Kamer Orkest betalen € 10\,00. \n\n\n\nJongeren van 13 tot 18 jaar betalen € 7\,50. \n\n\n\nJongeren tot 12 jaar mogen gratis komen. \n\n\n\nFoto Zoey Dor: Jeroen van der Spek \n\n\n\n \n\n\n\n\n\n\n\nIn 2023 won Zoey de eerste prijs op het Britten Celloconcours\, als jongste in haar categorie.
URL:https://bergkerkdeventer.nl/evenement/bridge-to-bach-deventer-kamer-orkest/
CATEGORIES:Concert Klassieke Muziek
ATTACH;FMTTYPE=image/png:/wp-content/uploads/2024/03/dko.png
END:VEVENT
BEGIN:VEVENT
DTSTART;TZID=Europe/Amsterdam:20240516T190000
DTEND;TZID=Europe/Amsterdam:20240516T210000
DTSTAMP:20260421T103030
CREATED:20240106T191255Z
LAST-MODIFIED:20240430T084644Z
UID:10000158-1715886000-1715893200@bergkerkdeventer.nl
SUMMARY:"Beltane yoga & meditation in concert"
DESCRIPTION:€ 28 / Klik hier voor kaartverkoop\n\n\n\n \n\n\n\n\n\n\n\n \n\n\n\nN.B. dit concert is verplaatst van de oorspronkelijk datum 30 april naar donderdag 16 mei! \n\n\n\nTijdens de Beltane yoga & meditation in concert gaan we de zaadjes die we hebben gepland in de lente laten uitgroeien tot bloemen. Het is tijd om te reflecteren en te voelen welk innerlijk proces in jou verder mag groeien. In het begin van de avond komen we aan in de prachtige Bergkerk. De avond zal begeleid worden met livemuziek van zangeres Krystl. Samen zakken we in ons lijf met een meditatie waarna we langzaam in beweging komen met een heerlijke yoga flow. Aan het einde van de avond nemen we tijd om alles te integreren met een ligconcert. Deze avond krijg jij de kans om te reflecteren op wie jij bent\, deze avond staat in het teken van vertrouwen om vanuit daar nog meer te mogen bloeien\, bloeien vanuit binnenuit\, vanuit jouw hart. Samen maken we de stap naar de zomer om onze zaadjes te laten uitgroeien tot prachtige unieke bloemen. \n\n\n\nAls afsluiting van de avond drinken we samen nog wat na om vervolgens ons pad naar huis te vervolgen en te voelen….. \n\n\n\n‘’Het is tijd om jouw leven te vieren\, jouw leven wat vol zit met mogelijkheden en groei’’ \n\n\n\n \n\n\n\nProgramma: \n\n\n\n18:45 inloop19.00-19.10 begin avond19.10-19.30 meditatie19.30-20.30 yoga20.30-21.00 ligconcert21.00-21.15 afsluiting21.15-21:30 uitloop \n\n\n\nWat kun je verwachten? \n\n\n\n-Een avond vol ontspanning-Inspiratie en energie-Een sprookje van een locatie-Knusse setting waar jij helemaal jezelf kan zijn-Een meditatie waardoor jij helemaal in je lijf kan zakken-Begeleiding van de avond met live muziek van zangeres Krystl-Een yoga flow om de energie ik jouw lijf weer in beweging te zetten \n\n\n\nPraktische informatie: \n\n\n\nWaar: Bergkerk (bergkerkplein 1\, 7411EN Deventer)Wanneer: vrijdag 2 februariHoelaat: 19.00-21.00 (inloop vanaf 18:45)Meenemen: een eigen yogamat\, kussen\, deken en een flesje waterInvestering: €28 p.p \n\n\n\nWees welkom op 2 februari in de prachtige Bergkerk in Deventer. \n\n\n\n‘’Let’s flow & grow’’ \n\n\n\nBij vragen laat het mij gerust weten. \n\n\n\nNamaste\, \n\n\n\nSoof \n\n\n\nWebsite: Soof.nu (https://soof.nu)Instagram: Soof.you_freeTel: +31644562074Mail: namastesoof@gmail.com \n\n\n\nP.S na aanschaf van de ticket is het niet meer mogelijk jouw ticket te annuleren. Het is wel mogelijk jouw ticket over te dragen aan iemand anders. Mail mij dan om deze verandering door te geven op namastesoof@gmail.com
URL:https://bergkerkdeventer.nl/evenement/imbolc-yoga-meditation-in-concert/
CATEGORIES:Concert meditatieve muziek
ATTACH;FMTTYPE=image/png:/wp-content/uploads/2024/01/Screenshot_2024-03-27-Agenda-–-Soof-.png
ORGANIZER;CN="Soof":MAILTO:namastesoof@gmail.com
END:VEVENT
BEGIN:VEVENT
DTSTART;TZID=Europe/Amsterdam:20240517T200000
DTEND;TZID=Europe/Amsterdam:20240517T213000
DTSTAMP:20260421T103030
CREATED:20240418T143612Z
LAST-MODIFIED:20240430T084453Z
UID:10000174-1715976000-1715981400@bergkerkdeventer.nl
SUMMARY:Ali Doğan Gönültaş
DESCRIPTION:Entree € 20.00 //  Klik hier voor ticketverkoop\n\n\n\nAli Doğan Gönültaş zingt en speelt tembur en akoestische gitaar. Hij werd geboren in Kiğı\, Oost-Anatolië\, in een gezin waar\, net als in de meeste alevitische families\, muziek een essentiële manier is om de geschiedenis van zijn volk over te dragen. Hij heeft meer dan tien jaar veldonderzoek gedaan en artistiek werk ontwikkeld om dan in 2022 het magnifieke debuutalbum “Kiğı” te produceren\, waarin hij pleit voor de talen en cultuur van tot zwijgen gebrachte minderheden in Turkije\, zoals de Koerden en Armeniërs. Gedurende 2023 trad hij op in meer dan 30 concerten in Spanje\, Frankrijk\, Portugal\, Zwitserland\, Zweden\, Duitsland en België\, naast optredens in Turkije\, op referentielocaties zoals Fundação Gulbenkian (Lissabon)\, Urkult Festival (Nasaker\, Zweden). )\, en Elbphilharmonie (Hamburg). In november 2023 erkenden de juryleden van de German Record Critics’ Award de productie als de Quarterly Critic’s Choice in de categorie Traditionele Etnische Muziek. Voor dit moedige werk ‘Kiğı’\, waarin hij pleit voor de talen en cultuur van tot zwijgen gebrachte minderheden in Turkije\, zoals de Koerden en Armeniërs\, werkte Ali Doğan tien jaar samen met de fascinerende band Ze Tîje. HIj werkte daarnaast in de archeologie in Anatolië en componeerde muziek voor film en werkte op televisie met een muzikaal thema. In het voorjaar van 2024 neemt Ali zijn tweede soloalbum op.
URL:https://bergkerkdeventer.nl/evenement/ali-dogan-gonultas/
CATEGORIES:Wereldmuziek
ATTACH;FMTTYPE=image/png:/wp-content/uploads/2024/04/ali2.png
END:VEVENT
BEGIN:VEVENT
DTSTART;TZID=Europe/Amsterdam:20240524T203000
DTEND;TZID=Europe/Amsterdam:20240524T213000
DTSTAMP:20260421T103030
CREATED:20240309T092913Z
LAST-MODIFIED:20240316T185720Z
UID:10000169-1716582600-1716586200@bergkerkdeventer.nl
SUMMARY:"Het broze paradijs" - Deventer Vocaal Ensemble
DESCRIPTION:Het broze paradijs\n\n\n\nEntree € 20.00 //  Klik hier voor ticketverkoop\n\n\n\n \n\n\n\nOp deze pagina vindt u nadere informatie over het concert “Het broze paradijs”. \n\n\n\n\n\n\n\nALGEMEEN \n\n\n\n\nHet concert vindt plaats in de Bergkerk Deventer\, 24 mei 2024. De aanvangstijd is 20:30 uur\, de kerk gaat open om 20:00 uur;\n\n\n\nDe uitvoerenden zijn het Deventer Vocaal Ensemble onder leiding van Elske te Lindert\, met medewerking van Johan van der Linden op saxofoon;\n\n\n\nTen tijde van het concert is er een tentoonstelling van Sibyl Heijnen. Deze tentoonstelling is (gratis) toegankelijk en loopt van 21 april tot 24 mei. Klik hier voor meer informatie;\n\n\n\nBij de Bergkerk is voldoende parkeerplek aanwezig op de Verzetslaan en in de Boreelgarage. Overigens zouden wij het gezien het thema van het concert waarderen als u (indien mogelijk) op de fiets / te voet komt.\n\n\n\n\nKAARTVERKOOP \n\n\n\n\nDe kaartverkoop verloopt via deze site en start begin april;\n\n\n\nKaartjes kosten €20\,- per stuk in de voorverkoop via deze site en €22\,50 per stuk aan de deur. Als u Vriend van het DVE bent\, kost een kaartje €17\,50 (maximaal 2 per vriend).\n\n\n\n\nPROGRAMMA \n\n\n\nDeel 1. Thema: de schoonheid van de natuur \n\n\n\n\nTrees – Daniel Brinsmead\n\n\n\nSongs of nature – Antonin Dvořák\n\n\n\nInterference deel 1 – Will Gregory (gespeeld door Johan van der Linden op saxofoon en tape)\n\n\n\nHear my prayer – Henry Purcell\n\n\n\nCry!\, deel 1 – Johan van der Linden\n\n\n\n\nDeel 2. Thema: afbraak \n\n\n\n\nCurse upon iron – Veljo Tormis\n\n\n\nInterference deel 2 – Will Gregory (gespeeld door Johan van der Linden op saxofoon en tape)\n\n\n\nCry!\, deel 2 – Johan van der Linden\n\n\n\nMiserere – Gregorio Allegri\n\n\n\n\nDeel 3. Thema: hoop \n\n\n\n\nCry!\, deel 3 – Johan van der Linden\n\n\n\nInterference deel 3 en 4 – Will Gregory (gespeeld door Johan van der Linden op saxofoon en tape)\n\n\n\nHope there is – Clare Maclean\n\n\n\nEarth song – Frank Tichelli
URL:https://bergkerkdeventer.nl/evenement/deventer-vocaal-ensemble-het-broze-paradijs/
CATEGORIES:Concert koormuziek
ATTACH;FMTTYPE=image/png:/wp-content/uploads/2024/03/dve.png
ORGANIZER;CN="Deventer Vocaal Ensemble":MAILTO:info@deventervocaalensemble.nl
END:VEVENT
END:VCALENDAR