BEGIN:VCALENDAR
VERSION:2.0
PRODID:-//Bergkerk Deventer - ECPv6.15.11//NONSGML v1.0//EN
CALSCALE:GREGORIAN
METHOD:PUBLISH
X-ORIGINAL-URL:https://bergkerkdeventer.nl
X-WR-CALDESC:Evenementen voor Bergkerk Deventer
REFRESH-INTERVAL;VALUE=DURATION:PT1H
X-Robots-Tag:noindex
X-PUBLISHED-TTL:PT1H
BEGIN:VTIMEZONE
TZID:Europe/Amsterdam
BEGIN:DAYLIGHT
TZOFFSETFROM:+0100
TZOFFSETTO:+0200
TZNAME:CEST
DTSTART:20230326T010000
END:DAYLIGHT
BEGIN:STANDARD
TZOFFSETFROM:+0200
TZOFFSETTO:+0100
TZNAME:CET
DTSTART:20231029T010000
END:STANDARD
BEGIN:DAYLIGHT
TZOFFSETFROM:+0100
TZOFFSETTO:+0200
TZNAME:CEST
DTSTART:20240331T010000
END:DAYLIGHT
BEGIN:STANDARD
TZOFFSETFROM:+0200
TZOFFSETTO:+0100
TZNAME:CET
DTSTART:20241027T010000
END:STANDARD
BEGIN:DAYLIGHT
TZOFFSETFROM:+0100
TZOFFSETTO:+0200
TZNAME:CEST
DTSTART:20250330T010000
END:DAYLIGHT
BEGIN:STANDARD
TZOFFSETFROM:+0200
TZOFFSETTO:+0100
TZNAME:CET
DTSTART:20251026T010000
END:STANDARD
BEGIN:DAYLIGHT
TZOFFSETFROM:+0100
TZOFFSETTO:+0200
TZNAME:CEST
DTSTART:20260329T010000
END:DAYLIGHT
BEGIN:STANDARD
TZOFFSETFROM:+0200
TZOFFSETTO:+0100
TZNAME:CET
DTSTART:20261025T010000
END:STANDARD
END:VTIMEZONE
BEGIN:VEVENT
DTSTART;TZID=Europe/Amsterdam:20241207T193000
DTEND;TZID=Europe/Amsterdam:20241207T210000
DTSTAMP:20260426T022508
CREATED:20240710T212111Z
LAST-MODIFIED:20240904T195745Z
UID:10000189-1733599800-1733605200@bergkerkdeventer.nl
SUMMARY:SCHOK! - Capella Brabant
DESCRIPTION:€ 26.00 / Klik hier voor ticketverkoop\n\n\n\n \n\n\n\nOverspoeld door social media\, onstuitbare groeistuipen en een karrevracht aan vragen over het leven. De weg naar volwassenheid is bezaaid met obstakels. Tieners van tegenwoordig krijgen heel wat voor hun kiezen. Ze groeien op in een onzekere\, veeleisende wereld waar gevoelens van kwetsbaarheid\, zelftwijfel en angst het liefst worden weggestopt. Als jongeling moet je door de schaamte heen. Juist in die breekbare\, ontvankelijke positie schuilt de sleutel naar een mondig leven waar je helemaal jezelf kunt zijn. \n\n\n\nIn hun nieuwste theaterconcert SCHOK! bezingt kamerkoor Capella Brabant de loodzware lichtheid van de opgroeiende jongeling. Daarvoor werken ze samen met componist Peter Vigh en tekstschrijver-dichter Micha Hamel. Gelauwerde makers die onvoorwaardelijk kiezen voor uitdagend\, eigentijds muziektheater. Zij schrijven nieuw werk voor Capella Brabant\, Souvenir Jeugdkoor Tilburg en accordeonduo TOEAC. Aansprekende hoofdrollen zijn weggelegd voor bariton Berend Eijkhout en acteur Simon Boer. \n\n\n\nIn dit actuele theaterconcert wordt de held heen en weer geschud tussen flink oplaaiende gevoelsstormen en diepe overpeinzingen. Stemmen in zijn hoofd wijzen hem een weg door de existentiële levensschroom heen. SCHOK! ontvouwt zich als een cantate waarin bezielde aria’s\, imposante koorstukken\, operateske liedkunst en rijke\, instrumentale gedeeltes elkaar afwisselen.
URL:https://bergkerkdeventer.nl/evenement/schok-capella-brabant/
CATEGORIES:Muziektheater
ATTACH;FMTTYPE=image/png:/wp-content/uploads/2024/07/schok.png
ORGANIZER;CN="Capella Brabant":MAILTO:info@capellabrabant.nl
END:VEVENT
BEGIN:VEVENT
DTSTART;TZID=Europe/Amsterdam:20241208T150000
DTEND;TZID=Europe/Amsterdam:20241208T163000
DTSTAMP:20260426T022508
CREATED:20240919T142306Z
LAST-MODIFIED:20240919T142754Z
UID:10000202-1733670000-1733675400@bergkerkdeventer.nl
SUMMARY:"Misa Criolla" - Kamerkoor STAMPIJ & Javier Rodriguez
DESCRIPTION:Volwassenen € 25 Jongeren € 15 / Klik hier voor ticketverkoop\n\n\n\n \n\n\n\nMisa Criolla 60 jaar! \n\n\n\nKamerkoor Stampij en Argentijnse musici geven op zondag 8 december 15.00u een uniek Latijns-Amerikaans concert waarin de geliefde Misa Criolla van de Argentijnse componist Ariel Ramírez centraal staat. De Misa is een prachtige vermenging van volksmuziek\, religiositeit en klassieke muziek… Een cadeautje in december!    \n\n\n\nDe komende uitvoering krijgt extra kleur door de deelname van de Argentijnse tenor Javier Rodríguez en zijn begeleiders. Dit geeft de uitvoeringen een heel authentieke klank en sfeer. De stem en uitstraling van Rodríguez zijn zo authentiek en opvallend dat de componist Ramírez hem jarenlang als vaste zanger bij zijn concerten had. \n\n\n\nKamerkoor Stampij en de Argentijnen werken al sinds 2008 samen. Zij gaven in de afgelopen jaren al vele concerten samen in Nederland\, Duitsland en Argentinië. Zij staan dan ook garant voor een daverende uitvoering van deze hitmis. \n\n\n\nKaarten: https://www.ticketkantoor.nl/shop/MC24-D
URL:https://bergkerkdeventer.nl/evenement/misa-criolla-kamerkoor-stampij-javier-rodriguez/
CATEGORIES:Concert
ATTACH;FMTTYPE=image/jpeg:/wp-content/uploads/2024/09/foto-website-bergkerk-klein.jpg
END:VEVENT
BEGIN:VEVENT
DTSTART;TZID=Europe/Amsterdam:20241214T110000
DTEND;TZID=Europe/Amsterdam:20241214T170000
DTSTAMP:20260426T022508
CREATED:20241102T192027Z
LAST-MODIFIED:20241102T192308Z
UID:10000208-1734174000-1734195600@bergkerkdeventer.nl
SUMMARY:Dickens Festijn 2024
DESCRIPTION:Voor meer informatie zie www.dickensfestijn.nl
URL:https://bergkerkdeventer.nl/evenement/dickens-festijn-2024/
CATEGORIES:Historisch straattheater festival
ATTACH;FMTTYPE=image/png:/wp-content/uploads/2023/09/dickens.png
ORGANIZER;CN="Events dEVENTer | Bergkerk":MAILTO:bergkerk@eventsdeventer.nl
END:VEVENT
BEGIN:VEVENT
DTSTART;TZID=Europe/Amsterdam:20241215T110000
DTEND;TZID=Europe/Amsterdam:20241215T170000
DTSTAMP:20260426T022508
CREATED:20241102T192236Z
LAST-MODIFIED:20241102T192237Z
UID:10000209-1734260400-1734282000@bergkerkdeventer.nl
SUMMARY:Dickens Festijn 2024
DESCRIPTION:Voor meer informatie zie www.dickensfestijn.nl
URL:https://bergkerkdeventer.nl/evenement/dickens-festijn-2024-2/
CATEGORIES:Historisch straattheater festival
ATTACH;FMTTYPE=image/png:/wp-content/uploads/2023/09/dickens.png
ORGANIZER;CN="Events dEVENTer | Bergkerk":MAILTO:bergkerk@eventsdeventer.nl
END:VEVENT
BEGIN:VEVENT
DTSTART;TZID=Europe/Amsterdam:20241220T200000
DTEND;TZID=Europe/Amsterdam:20241220T210000
DTSTAMP:20260426T022508
CREATED:20241102T193930Z
LAST-MODIFIED:20241207T164905Z
UID:10000210-1734724800-1734728400@bergkerkdeventer.nl
SUMMARY:"Kerst in de 17e eeuwse stijl" - Geistliches Consort
DESCRIPTION:20 december – kerstconcert in 17e eeuwse stijl door Geistliches Consort – Bergkerk Deventer \n\n\n\nHet Geistliches Consort\, dat zich richt op het uitvoeren van ‘oude muziek’ werkt in dit concert samen met ensemble Piacevole uit Gouda. \n\n\n\nSamen bestaat het combi-ensemble voor 20 december uit 10 professionele zangers\, continuo\, cornetto\, baroktrombone en hoofdorgel. \n\n\n\nWe brengen een programma ten gehore met kerstmuziek uit de 16e en 17e eeuw van o.m. Heinrich Schütz (1585-1672) en Michaël Praetorius (1571-1621). \n\n\n\nOok wordt u zelf van harte uitgenodigd mee te zingen bij de kersthymnen uit Lutherse traditie\, wat dit concert extra bijzonder maakt! \n\n\n\nKaarten alleen verkrijgbaar aan de zaal \n\n\n\n€20 volwassenen  \n\n\n\n€10 tot en met 25 jaar \n\n\n\n€5 tot en met 17 jaar
URL:https://bergkerkdeventer.nl/evenement/geistliches-consort-kerstconcert-oude-muziek/
CATEGORIES:Kerstconcert barokmuziek
ATTACH;FMTTYPE=image/jpeg:/wp-content/uploads/2024/11/geistliches-scaled.jpg
ORGANIZER;CN="Events dEVENTer | Bergkerk":MAILTO:bergkerk@eventsdeventer.nl
END:VEVENT
BEGIN:VEVENT
DTSTART;TZID=Europe/Amsterdam:20241222T153000
DTEND;TZID=Europe/Amsterdam:20241222T170000
DTSTAMP:20260426T022508
CREATED:20240531T195017Z
LAST-MODIFIED:20241204T125337Z
UID:10000184-1734881400-1734886800@bergkerkdeventer.nl
SUMMARY:"Kerst anno 1640" - Margaretha Consort
DESCRIPTION:€ 25 jongeren tot 18 € 5 / Klik hier voor ticketverkoop\n\n\n\n \n\n\n\n \n\n\n\nN.B. in de Dickenskrant staat abusievelijk vermeld dat dit concert om 20.00 uur begint en gratis toegankelijk is\, dit is echter niet juist\, de aanvangstijd is ’s middags om 15.30 uur en de toegangsprijs bedraagt € 25\,00 (jongeren tot 18 € 5\,00) \n\n\n\nDe kersttour 2024 van het Margaretha Consort brengt ons naar Den Haag\, Havelte\, Vries en Deventer dit jaar. Het is een indrukwekkende gebeurtenis: een Kerstnachtdienst zoals die rond 1640 plaats had kunnen vinden…. Het Margaretha Consort nodigt u van harte uit om deze avond bij te wonen en zo samen op weg te gaan naar Kerst! \n\n\n\nHet Margaretha Consort neemt u als bezoeker mee terug in de tijd. De inspirerende muzikale leiding is in handen van Marit Broekroelofs\, celliste en gambiste. Zij weet met haar ensemble altijd de harten van het publiek te raken – en daaraan zal de prachtige klank van het kerkorgel\, dat een prominente rol heeft in dit programma\, meewerken. \n\n\n\nTijdens het kerstconcert klinken bekende advents- en kerstliederen zoals Nun komm der Heiden Heiland\, er is een roos ontloken\, in dulci Jubilo en anderen. Koormuziek wordt afgewisseld met instrumentale delen\, solisten\, prachtige orgel-solo’s en … u kunt zelf ook mee doen!  Het publiek wordt namelijk van harte uitgenodigd om sommige liederen mee te zingen\, in het programmaboekje wordt dat duidelijk aangeven. Zo bent u niet allen toehoorder maar ook onderdeel van het geheel. \n\n\n\nMARGARETHA CONSORTSopraan | Hanne Marit Mordal IversenSopraan | Margreet RietveldSopraan | Marjon StrijkAlt | Helena PoczykowskaTenor | Kevin SkeltonBariton | Gunther VandevenBas | David Mc Cune \n\n\n\nViola da gamba | Marit BroekroelofsViola da gamba | Maaike BoekholtViola da gamba | Ricardo Rodríguez MirandaViolone | Marike TuinKistorgel | Jorge López-EscribanoKerkorgel | Gerrit Hoving \n\n\n\nMeer informatie en (vanaf augustus) kaartverkoop op: www.margarethaconsort.nl. \n\n\n\nZie ook :   https://youtu.be/MYhR-sjCg7g
URL:https://bergkerkdeventer.nl/evenement/a-german-christmas-margaretha-consort/
CATEGORIES:Kerstconcert
ATTACH;FMTTYPE=image/png:/wp-content/uploads/2024/05/kerst1640.png
END:VEVENT
BEGIN:VEVENT
DTSTART;TZID=Europe/Amsterdam:20241224T200000
DTEND;TZID=Europe/Amsterdam:20241224T210000
DTSTAMP:20260426T022508
CREATED:20240710T215505Z
LAST-MODIFIED:20241119T120433Z
UID:10000190-1735070400-1735074000@bergkerkdeventer.nl
SUMMARY:Kerstavondconcert "Messe de Minuit" - Deventer Vocaal Ensemble
DESCRIPTION:Op kerstavond (dinsdag 24 december) geeft het Deventer Vocaal Ensemble in de Bergkerk te Deventer een sfeervol kerstconcert: “Messe de Minuit – Kerstavondconcert met samenzang”. In dit concert zal het DVE de prachtige Messe de Minuit pour Noël (middernachtsmis voor Kerst) van Marc-Antoine Charpentier uitvoeren. Charpentier schreef dit werk in 1694\, waarbij hij zich baseerde op de melodieën van tien Franse kerstliedjes. Ook zal DVE verschillende delen laten horen van O Magnum Mysterium\, waarin het mysterie van de geboorte van Christus wordt bezongen. Het publiek wordt uitgenodigd een paar bekende kerstliederen mee te zingen\, onder begeleiding van het kerkorgel. \n\n\n\nHet concert wordt op authentieke instrumenten begeleid door het professionele Margaretha Consort en het geheel staat onder leiding van dirigente Elske te Lindert. Het Deventer Vocaal Ensemble is een koor dat bekend staat om z’n klassieke en moderne concerten van hoge kwaliteit en is in Deventer o.a. ook bekend vanwege de jaarlijkse Matthäus Passion in de Bergkerk. \n\n\n\nIedereen is welkom! Het maakt niet uit of u gelovig bent of niet en u hoeft ook niet goed te kunnen zingen. Muzikaal gezien is er voor iedereen wat te genieten: luisteren naar oude muziek die de toets der tijd heeft doorstaan en naar moderne klassiekers én om samen te zingen met onder andere “Komt allen tezamen”. Kortom een prachtige manier om de kerstdagen in te luiden! \n\n\n\nDe toegang tot dit kerstconcert is gratis\, wel wordt er na afloop om een noodzakelijke vrije gift ter dekking van de kosten gevraagd! Het concert begint om 20:00 uur\, de kerk gaat open om 19:00 uur. Bij de ingang van de kerk ontvangt elke bezoeker een programmaboekje met een toelichting en de teksten van de kerstliederen. Dit concert wordt georganiseerd door de Stichting Zaterdagmiddag Concerten Deventer in nauwe samenwerking met het DVE\, voor meer info zie www.zmcd.nl of www.deventervocaalensemble.nl
URL:https://bergkerkdeventer.nl/evenement/kerstavondconcert/
CATEGORIES:Kerstconcert
ATTACH;FMTTYPE=image/png:/wp-content/uploads/2024/07/DVE_wit.png
END:VEVENT
BEGIN:VEVENT
DTSTART;TZID=Europe/Amsterdam:20241228T110000
DTEND;TZID=Europe/Amsterdam:20250122T170000
DTSTAMP:20260426T022508
CREATED:20241203T124715Z
LAST-MODIFIED:20241227T122107Z
UID:10000212-1735383600-1737565200@bergkerkdeventer.nl
SUMMARY:Fred Schley - "Honderd zelfportretten"
DESCRIPTION:N.B. op woensdag 8 januari is er een markt voor het goede doel in de kerk\, deze is dan wel gewoon open\, op zaterdag 11 januari van 15 tot 16 uur en zondag 12 januari van 13 tot 17 uur is de kerk gesloten ivm concerten. \n\n\n\nEr moet een reden zijn waarom we zelfportretten als indringend ervaren. Kijken ze ons aan\, schuilt daarin hun geheimzinnige kracht? Dat is een vorm van magisch denken\, want die portretten bestaan uit verf en doen niets. Toch wordt dat kijken weleens hinderlijk gevonden. De onbevangenheid waarmee de kunstenaar zichzelf onder de loep neemt\, kan een ander met een gevoel van ongemak opzadelen. \n\n\n\nHet zelfportret is een fijn onderwerp voor kunstenaars. Voor kijkers veel minder. Die denken met een persoon van doen te hebben en zien geen reden om die vreemdeling in hun huis te dulden. De schilder die zichzelf\, of beter gezegd zijn eigen hoofd als aanleiding neemt\, vergeet al snel wie het model is. Niet alleen verliest hij zich in het schilderen dat al zijn aandacht vraagt\, hij probeert zijn gezichtsuitdrukking\, haardracht\, teint van de huid en de lichtval\, opnieuw te zien\, los van hoe hij dat gezicht kent. Hij kan het ook opdrachten geven. Trek eens een wenkbrauw op\, draai iets naar het licht toe\, kijk eens omhoog of omlaag. Het model is gehoorzaam en begrijpt wat er wordt gevraagd. Meestal is dat niet nodig. Het beeld dient zich aan. \n\n\n\nFred Schley is zo’n kunstenaar die altijd naar de waarneming werkt. Het zijn niet alleen zelfportretten die zich aan hem opdringen. Landschappen\, dingetjes in en om het huis\, portretten van anderen\, de hele wereld vraagt erom bekeken en verbeeld te worden. Hij voelt zich dikwijls als de schoolmeester die dertig kinderen tegelijk aandacht moet geven. Ze komen echt wel aan de beurt\, maar graag één voor één. En dan komt hij ook nog voortdurend zichzelf tegen. Een terloopse blik in een spiegel kan al voldoende zijn om het penseel weer op te pakken. De lichtvlek die precies over het linkeroog valt\, die pet of hoed\, de kraag van een jas\, de bril\, het witte\, uitstaande haar. De haartooi is al op zoveel manieren in verf vertaald dat je daar een aparte studie van kunt maken. \n\n\n\nAls geen ander kent Fred het misverstand dat als iets lijkt op de werkelijkheid\, het ook wel met die werkelijkheid zal samenvallen. Hij is het niet zelf op die meer dan honderd doeken die hij in de Bergkerk laat zien. Het zijn momentopnamen die hem iets leren over zichzelf waardoor\, als een portret af is\, iets zichtbaar wordt dat hem beter karakteriseert dan een spiegel zou kunnen. Een blijk van zelfkennis\, opgebouwd doordat hij zich helemaal vrij kon voelen tijdens het schilderen. Vrij van elke verplichting aan een model of een opdrachtgever\, vrij van schaamte of narcistische verlangens. 
URL:https://bergkerkdeventer.nl/evenement/fred-schley-100-zelfportretten/
CATEGORIES:Expositie
ATTACH;FMTTYPE=image/png:/wp-content/uploads/2024/12/fredschley.png
ORGANIZER;CN="Events dEVENTer | Bergkerk":MAILTO:bergkerk@eventsdeventer.nl
END:VEVENT
END:VCALENDAR