BEGIN:VCALENDAR
VERSION:2.0
PRODID:-//Bergkerk Deventer - ECPv6.15.11//NONSGML v1.0//EN
CALSCALE:GREGORIAN
METHOD:PUBLISH
X-ORIGINAL-URL:https://bergkerkdeventer.nl
X-WR-CALDESC:Evenementen voor Bergkerk Deventer
REFRESH-INTERVAL;VALUE=DURATION:PT1H
X-Robots-Tag:noindex
X-PUBLISHED-TTL:PT1H
BEGIN:VTIMEZONE
TZID:Europe/Amsterdam
BEGIN:DAYLIGHT
TZOFFSETFROM:+0100
TZOFFSETTO:+0200
TZNAME:CEST
DTSTART:20240331T010000
END:DAYLIGHT
BEGIN:STANDARD
TZOFFSETFROM:+0200
TZOFFSETTO:+0100
TZNAME:CET
DTSTART:20241027T010000
END:STANDARD
BEGIN:DAYLIGHT
TZOFFSETFROM:+0100
TZOFFSETTO:+0200
TZNAME:CEST
DTSTART:20250330T010000
END:DAYLIGHT
BEGIN:STANDARD
TZOFFSETFROM:+0200
TZOFFSETTO:+0100
TZNAME:CET
DTSTART:20251026T010000
END:STANDARD
BEGIN:DAYLIGHT
TZOFFSETFROM:+0100
TZOFFSETTO:+0200
TZNAME:CEST
DTSTART:20260329T010000
END:DAYLIGHT
BEGIN:STANDARD
TZOFFSETFROM:+0200
TZOFFSETTO:+0100
TZNAME:CET
DTSTART:20261025T010000
END:STANDARD
END:VTIMEZONE
BEGIN:VEVENT
DTSTART;TZID=Europe/Amsterdam:20250202T110000
DTEND;TZID=Europe/Amsterdam:20250330T170000
DTSTAMP:20260425T234426
CREATED:20241210T104500Z
LAST-MODIFIED:20250216T145440Z
UID:10000213-1738494000-1743354000@bergkerkdeventer.nl
SUMMARY:Merel Waagmeester - "De sfeer van het midden"
DESCRIPTION:Alles was zacht vandaag\,zacht en hetzelfdeer was niet zoveel verschil tussen de dingeneen steen\, het licht\, de geur van natte bomendeze dag had geen gewichtFotograaf Merel Waagmeester zoekt in haar foto’s niet naar actie\, een verhaal of anekdote.Elke foto is weliswaar een momentopname\, maar de situaties\, natuurbeelden en stilleven-achtige composities die Merel Waagmeester vastlegt lijken tijdloos. Steeds blijft ze dichtbij de realiteit waarin licht en schaduw even tastbaar aanwezig zijn als hout\, steen en water. Daarmee komen haar landschappen los van een specifieke locatie en laten haar portretten vergeten wiens gezicht je ziet. Ze roepen een sfeer op die appelleert aan stilte en introspectie.Het idee voor deze tentoonstelling is ontstaan naar aanleiding van kleine portrettekeningen van haar vader\, Deventer beeldhouwer Jilles Waagmeester. Hij was erg ziek\, werken ging niet meer en hij begon met tekenen. Elke ochtend maakte hij een kleine portrettekening\, aansluitend stuurde hij haar zijn tekening en belde om te vragen wat zij ervan vond. Deze gesprekken\, dit ritueel waar een jaar lang de dag mee begon\, bracht hen dichter tot elkaar. Het idee ontstond een tentoonstelling te maken met deze tekeningen\, zijn beelden en haar fotografie. De relatie zou centraal staan.De relatie tussen hun\, hun werk\, maar vooral de relatie met de ander en het andere. De nabijheid\, de harmonie. ‘Laten we hiermee wachten tot ik meer bekwaam ben in het tekenen en me beter voel.’Hij overleed in de herfst van 2023.Toen de Bergkerk haar vroeg om een solotentoonstelling\, besloot zij een hommage aan haar vader te brengen\, aan de verbondenheid en aan de betekenis van een beeld.‘Mijn foto’s zijn een stil protest tegen het idee van een maakbare wereld waarin de mens zichzelf boven en buiten de natuur plaatst. In de greep van economische vooruitgang\, technologische versnelling\, hopeloze verdeeldheid en individueel isolement\, koester ik eenvoud en stilte als esthetisch ideaal.Met mijn werk probeer een gebied te raken dat vrij is van tegenstellingen en het midden houdt tussen vorm en leegte\, object en subject. Concreet en herkenbaar enerzijds\, onbepaald en abstract anderzijds. Als een aanhoudend zoeken en tasten naar evenwicht\, waarin harmonie zowel een opgave als een bestemming lijkt. Een precair gebied\, de sfeer van het midden.’ \n\n\n\nMerel Waagmeester (1981) is geboren in Deventer. Zij studeerde autonome kunst aan de Hogeschool voor de Kunsten in Utrecht en fotografie aan de Facultad de Bellas Artes van de universiteit in Granada\, Spanje. Ze werkt zowel digitaal\, analoog en maakt fotogrammen. \n\n\n\nDeze tentoonstelling is mede mogelijk gemaakt door : \n\n\n\nStichting Events dEVENTer \n\n\n\nJeannette Hollaarfonds
URL:https://bergkerkdeventer.nl/evenement/de-sfeer-van-het-midden-merel-waagmeester/
CATEGORIES:Expositie
ATTACH;FMTTYPE=image/png:/wp-content/uploads/2024/12/sfeervanhetmidden.png
ORGANIZER;CN="Events dEVENTer | Bergkerk":MAILTO:bergkerk@eventsdeventer.nl
END:VEVENT
BEGIN:VEVENT
DTSTART;TZID=Europe/Amsterdam:20250207T200000
DTEND;TZID=Europe/Amsterdam:20250207T213000
DTSTAMP:20260425T234426
CREATED:20250115T191736Z
LAST-MODIFIED:20250127T091733Z
UID:10000226-1738958400-1738963800@bergkerkdeventer.nl
SUMMARY:Dîlan Top & friends
DESCRIPTION:Entree € 20  //  Klik hier voor ticketverkoop\n\n\n\n \n\n\n\nDîlan Top\, geboren in Dêrsim\, is een Koerdische muzikant gevestigd in Duitsland. Via haar muziek nodigt ze haar publiek uit om de wortels\, tradities en emotionele rijkdom van haar cultuur te verkennen. Ze voltooide haar professionele muziekopleiding aan de World Music Academy in Mainz\, waar ze later ook als instructeur werkte. Daar leerde ze kinderen en jonge volwassenen de kunst van de Tenbûr. Naast haar muzikale bezigheden behaalde ze een masterdiploma in Management aan de Johannes Gutenberg Universiteit Mainz. Dîlan zingt in het Kurmancî\, Zazakî\, Turks en Armeens en begeleidt zichzelf op de Tenbûr\, een centraal element van haar muziek. Haar werk combineert traditie met moderniteit. In haar optredens wordt ze ook begeleid door de Bilûr\, bas en percussie\, waardoor een harmonieus samenspel ontstaat dat de rijkdom van traditionele klanken benadrukt. Naast haar concertoptredens heeft Dîlan als muzikant bijgedragen aan theatrale producties\, onder meer in het Theaterhaus Hannover en de Kammerspiele München. Ze nam ook deel aan het boekproject “Koerdische vrouwelijke muzikanten” en het begeleidende concert georganiseerd door het Instituut voor Europese Etnomusicologie aan de Universiteit van Keulen. Door haar muziek sluit Dîlan Top diep aan bij haar culturele erfgoed\, terwijl ze het ook toegankelijk maakt voor een breder publiek door traditionele elementen te combineren met moderne invloeden. Tegelijkertijd brengt ze emotionele diepgang over en opent ze een ruimte voor dialoog over taal en cultuur\, waardoor haar kunst zowel persoonlijk als universeel is. \n\n\n\n \n\n\n\nMusici: \n\n\n\nEmrah Oğuztürk (Duduk\, kaval)Eren Akşahin (Doublebass\, Guitar)Mehmet Vefa Yamalak (Percussion)
URL:https://bergkerkdeventer.nl/evenement/dilan-top-friends/
CATEGORIES:Concert wereldmuziek
ATTACH;FMTTYPE=image/jpeg:/wp-content/uploads/2025/01/@maebreker-dilantop-23-scaled.jpg
END:VEVENT
BEGIN:VEVENT
DTSTART;TZID=Europe/Amsterdam:20250215T150000
DTEND;TZID=Europe/Amsterdam:20250215T160000
DTSTAMP:20260425T234426
CREATED:20241102T183434Z
LAST-MODIFIED:20241102T183434Z
UID:10000205-1739631600-1739635200@bergkerkdeventer.nl
SUMMARY:Ensemble De Nootzaak - piano & blazers
DESCRIPTION:Ensemble de Nootzaak staat voor eigentijdse kamermuziek met een afwisselend karakter. \n\n\n\nHun handelsmerk zijn geen daadwerkelijke noten en zuidvruchten\, zoals de naam misschien doet vermoeden\, maar zij bieden wel degelijk een grote verscheidenheid aan ‘noten’ in hun ‘zaak’. Muziek en daarmee cultuur ‘aan de man brengen’\, daar ziet het Ensemble de Nootzaak van in. \n\n\n\nHet ensemble bestaat uit vier blazers en een pianist die\, naast hun werkzaamheden als docerende en uitvoerende (orkest-)musici\, met veel plezier en toewijding kamermuziek maken. Naast werken voor het volledige kwintet komen met grote regelmaat ook werken voor kleinere bezettingen aan bod\, waardoor heel afwisselende programma’s ontstaan. Hun gedeelde passie voor kamermuziek en het inspireren van iedere luisteraar\, ongeacht leeftijd en muzikale achtergrond\, vormen voor de musici de grote drijfveren voor hun samenspel.Musici: \n\n\n\n\nPaolo Gorimi\, piano\n\n\n\nNiels Pol\, hobo\n\n\n\nMarco Danesi\, klarinet\n\n\n\nHenk Veldt\, hoorn\n\n\n\nSuzanne van Berkum\, fagot\n\n\n\n\nProgramma: \n\n\n\nW.A. Mozart – Quintet in Es \n\n\n\nL. v. Beethoven – Ouverture Leonore (arr. Henk Veldt) \n\n\n\nF. Delius – Verschillende van de Danish Songs
URL:https://bergkerkdeventer.nl/evenement/ensemble-de-nootzaak-piano-blazers/
CATEGORIES:Zaterdagmiddagconcert
ATTACH;FMTTYPE=image/png:/wp-content/uploads/2024/11/nootzaak.png
ORGANIZER;CN="Stichting Zaterdagmiddagconcerten Deventer":MAILTO:info@zaterdagmiddagconcertendeventer.nl
END:VEVENT
END:VCALENDAR