BEGIN:VCALENDAR
VERSION:2.0
PRODID:-//Bergkerk Deventer - ECPv6.15.11//NONSGML v1.0//EN
CALSCALE:GREGORIAN
METHOD:PUBLISH
X-WR-CALNAME:Bergkerk Deventer
X-ORIGINAL-URL:https://bergkerkdeventer.nl
X-WR-CALDESC:Evenementen voor Bergkerk Deventer
REFRESH-INTERVAL;VALUE=DURATION:PT1H
X-Robots-Tag:noindex
X-PUBLISHED-TTL:PT1H
BEGIN:VTIMEZONE
TZID:Europe/Amsterdam
BEGIN:DAYLIGHT
TZOFFSETFROM:+0100
TZOFFSETTO:+0200
TZNAME:CEST
DTSTART:20240331T010000
END:DAYLIGHT
BEGIN:STANDARD
TZOFFSETFROM:+0200
TZOFFSETTO:+0100
TZNAME:CET
DTSTART:20241027T010000
END:STANDARD
BEGIN:DAYLIGHT
TZOFFSETFROM:+0100
TZOFFSETTO:+0200
TZNAME:CEST
DTSTART:20250330T010000
END:DAYLIGHT
BEGIN:STANDARD
TZOFFSETFROM:+0200
TZOFFSETTO:+0100
TZNAME:CET
DTSTART:20251026T010000
END:STANDARD
BEGIN:DAYLIGHT
TZOFFSETFROM:+0100
TZOFFSETTO:+0200
TZNAME:CEST
DTSTART:20260329T010000
END:DAYLIGHT
BEGIN:STANDARD
TZOFFSETFROM:+0200
TZOFFSETTO:+0100
TZNAME:CET
DTSTART:20261025T010000
END:STANDARD
END:VTIMEZONE
BEGIN:VEVENT
DTSTART;TZID=Europe/Amsterdam:20250720T110000
DTEND;TZID=Europe/Amsterdam:20250914T170000
DTSTAMP:20260425T135532
CREATED:20250507T154820Z
LAST-MODIFIED:20250510T210357Z
UID:10000250-1753009200-1757869200@bergkerkdeventer.nl
SUMMARY:NEVENGEUL
DESCRIPTION:Oogst uit de IJsselvallei \n\n\n\nIn de IJsselvallei wonen en werken veel beeldend kunstenaars\, die zich verbonden voelen met het IJssellandschap en de thema’s die dit landschap aangaan. Tijdens de IJsselbiënnale 2025 krijgt deze artistieke oogst uit de IJsselvallei een podium. De organisatie van de IJsselbiënnale stelde voor hun flankerende Nevengeul programma een groepstentoonstelling samen\, op basis van een Open Call\, met werk van meer dan 50 regionale kunstenaars. Je ontdekt hun werk in de Nevengeul groepstentoonstelling die van 20 juli t/m 14 september in de Bergkerk in Deventer te zien is.  \n\n\n\nGrenzen  \n\n\n\nKunstenaars werden uitgenodigd te reageren op het thema van IJsselbiënnale 2025: ‘Grenzen’. Dit thema wordt door hen op uiteenlopende manieren verbeeld\, onderzocht en in verband gebracht met het IJssellandschap. De tentoonstelling bestaat uit een spannende mix van bestaande en nieuw gemaakte werken\, die de grenzen aftasten tussen hoop en wanhoop. Deze groepstentoonstelling nodigt uit om stil te staan bij onze menselijke relatie met het landschap\, en wat er mogelijk wanneer we de grens tussen mens en natuur niet langer als scheiding zien\, maar als ontmoeting.   \n\n\n\nOpening: 20 juli\, 14:00 uur\, u wordt van harte uitgenodigd om hierbij aanwezig te zijn. \n\n\n\n\n\n\n\nHavenplein 20\, 7411ME Deventer \n\n\n\n0570-244002 \n\n\n\nwww.ijsselbiennale.nl
URL:https://bergkerkdeventer.nl/evenement/nevengeul-groepstentoonstelling/
CATEGORIES:Groepstentoonstelling
ATTACH;FMTTYPE=image/jpeg:/wp-content/uploads/2025/05/Nevengeul_vierkant_1.jpg
ORGANIZER;CN="IJsselbi%C3%ABnnale":MAILTO:info@ijsselbiennale.nl
END:VEVENT
BEGIN:VEVENT
DTSTART;TZID=Europe/Amsterdam:20250803T120000
DTEND;TZID=Europe/Amsterdam:20250803T160000
DTSTAMP:20260425T135532
CREATED:20250723T125728Z
LAST-MODIFIED:20250725T220103Z
UID:10000272-1754222400-1754236800@bergkerkdeventer.nl
SUMMARY:Lendvay Ensemble - Viool\, cello\, klavecimbel & orgel
DESCRIPTION:Het Lendvay-ensemble speelt drie concerten om 12.00 uur\, 14.00 uur en 16.00 uur. \n\n\n\n             Jozsef Lendvay\, viool / Katja Dirven-Didychenko \, cello \n\n\n\n             Axel Wenstedt\, klavecimbel/orgel   \n\n\n\nVRIJE ENTREE\, UW GIFT WORDT GEWAARDEERD! \n\n\n\nHet Rotterdamse Lendvay ensemble bestaat uit een groep ervaren en internationaal bekende musici\, met programmas in diverse samenstellingen. In de Bergkerk spelen 3 musici een selectie uit diverse eerder gespeelde (barok)programmas met concerten in oa Rotterdam\, Geldrop\, Sint-Oedenrode\, Den Bosch. \n\n\n\nU hoort bekende barokmuziek van J.S.Bach (dubbelconcert in d BWV 1043\, en het bekende Air)\, Vivaldi (uit de 4 jaargetijden oa de Winter\, dubbelconcert in a RV 522)\, Corelli (Folia-vioolsonate). Maar ook Brahms (Hongaarse dansen waarbij vanuit klavecimbel het cimbalom klinkt)\, de bekende virtuoze Csárdás van Monti (viool & cello)\, Haydn (deel celloconcert). Orgel- en klavecimbelintermezzi van J.S. Bach\, C.Ph.E. Bach\, Clerambault\, Muffat en Satie. \n\n\n\nJozsef Lendvay (Boedapest 1974) wordt beschouwd als een van de meest vooraanstaande violisten van deze tijd. Hij staat wereldwijd bekend om zijn virtuoze techniek\, expressieve muzikaliteit encharismatische podiumuitstraling\, waarmee hij een internationaal publiek weet te betoveren.Lendvay werd in 1974 geboren in Boedapest en begon op vijfjarige leeftijd met vioolspelenonder leiding van zijn vader\, József Lendvay Sr. Zijn uitzonderlijke talent kwam al snel tot uitingtoen hij de eerste prijs won in een nationale wedstrijd voor jonge violisten in Hongarije. Opachtjarige leeftijd werd hij toegelaten tot de Franz Liszt Academie in Boedapest\, waar hijstudeerde bij professor Miklós Szenthelyi. Later volgde hij masterclasses bij enkele van degrootste violisten van de 20e eeuw\, waaronder Sir Yehudi Menuhin\, Ida Haendel\, Igor Oistrakh\,Ruggiero Ricci\, Jaap van Zweden\, Sándor Végh en Dorothy DeLay.Lendvay is laureaat van diverse prestigieuze internationale concoursen\, waaronder het TiborVarga Internationaal Vioolconcours in Sion\, Zwitserland. In 1997 ontving hij de Gouden Kruisvan Verdienste van de President van de Republiek Hongarije voor zijn buitengewone prestaties.Zijn repertoire is zeer veelzijdig en omvat solowerken\, kamermuziek en eigen arrangementen.Hij werkte samen met wereldberoemde solisten en dirigenten als Yuri Bashmet\, Vadim Repin\,Andrea Bocelli\, Sir Simon Rattle\, Sir Yehudi Menuhin en prof. Krzysztof Penderecki.Lendvay trad op in de meest gerenommeerde concertzalen ter wereld\, waaronder Carnegie Hall(New York)\, Walt Disney Concert Hall (Los Angeles)\, Shanghai Concert Hall\, Royal Albert Hall(Londen)\, Mariinsky Theater (Sint-Petersburg)\, Linder Auditorium (Johannesburg)\, Teatro Colón(Buenos Aires) en Teatro Municipal (Rio de Janeiro). Een langdurige samenwerking met hetBudapest Festival Orchestra onder leiding van Iván Fischer resulteerde in een opname van deHongaarse Dansen van Brahms (georkestreerd door Fischer)\, uitgebracht bij Philips.Hij speelde tevens met orkesten als het Royal Philharmonic Orchestra\, het KoninklijkConcertgebouworkest\, het Rotterdams Philharmonisch Orkest\, het Los Angeles Philharmonic\,het Philharmonic of the Nations\, het Nederlands Radio Filharmonisch Orkest en het Orchestrede la Suisse Romande. Ook gaf hij privéoptredens voor vooraanstaande wereldleiders\,waaronder paus Johannes Paulus II – die hem onderscheidde met een medaille voor zijnculturele bijdrage – alsook voor Mikhail Gorbatsjov\, Angela Merkel\, George H.W. Bush enHelmut Kohl.Lendvay is een graag geziene gast op toonaangevende Europese festivals zoalsSchleswig-Holstein en MDR Musiksommer (Duitsland)\, Salzburger Festspiele en het FeldkirchFestival (Oostenrijk)\, het Brescia en Bergamo Festival (Italië)\, het Edinburgh InternationalFestival en de BBC Proms (Verenigd Koninkrijk). In 2009 werd hij benoemd tot solist bij hetDuitse festival Musiklandschaft Westfalen; in 2012 keerde hij terug\, ditmaal onder leiding vanKrzysztof Penderecki.Naast zijn klassieke optredens staat Lendvay bekend om zijn vurige vertolkingen vanvolksmuziek uit Hongarije\, Roemenië\, Moldavië en Rusland. Ook klezmermuziek speelt eenbelangrijke rol in zijn repertoire – mogelijk beïnvloed door zijn deels Roma- en deels Joodseachtergrond. Deze afkomst verleent zijn uitvoeringen van onder andere Ravel’s Tzigane enSarasate’s Zigeunerweisen een unieke\, authentieke klank.In 2005 werd Lendvay bekroond met de prestigieuze Echo Klassik-prijs in de categorie Klassikohne Grenzen voor zijn album Lendvay\, uitgebracht door Sony Classical. De opname stondwekenlang bovenaan de klassieke hitlijsten in Zuid-Korea en Japan.Sinds 2023 woont József Lendvay in Rotterdam\, waar hij actief is als solist en kamermusicus.Hij is oprichter en artistiek leider van The Lendvay Ensemble\, een gezelschap bestaande uitgerenommeerde internationale musici\, waaronder Anna Fedorova\, Katja Dirven\, Letizia Maula\,John van Lierop\, Tomi Shimon\, Julia Dinerstein en Mikhail Zemtsov. \n\n\n\nKatja Dirven-Didychenko https://katjadirven.nl/    \n\n\n\nKatja Dirven-Didychenko werd geboren in Oekraïne en studeerde cum laude af aan hetgerenommeerde Kiev Conservatorium\, waar zij les kreeg van prof. Е. Chervova. Zij won eenprijs op het Internationale Lysenko Muziekconcours en vervolgde haar masteropleiding aan hetRotterdams Conservatorium. Daar studeerde zij bij Marien van Staalen\, Dmitri Ferschtman enHerre-Jan Stegenga.Vanaf jonge leeftijd trad Katja op als soliste\, in ensembles en in orkesten. Tijdens haar studie inOekraïne werkte zij regelmatig samen met professionele gezelschappen\, waaronder hetLyatoshinsky Ensemble en het Kiev Soloists Ensemble. Ook in Nederland en daarbuiten is zijactief als uitvoerend musicus\, zowel als soliste als in orkestverband. Zij speelt ingerenommeerde orkesten zoals Philharmonie Zuid-Nederland\, Sinfonia Rotterdam\, CamerataAmsterdam en het Chamber Orchestra of Limburg. Daarnaast is zij een vaste gast op hetfestival Musik: Landschaft Westfalen in Duitsland en treedt zij regelmatig op als aanvoerderbinnen verschillende orkesten.Kamermuziek vormt een belangrijk onderdeel van haar muzikale leven. Katja speelt regelmatigmet internationaal vooraanstaande musici zoals József Lendvay\, Mikhail Zemtsov\, Igor enVesna Gruppman\, Anna Fedorova\, Letizia Maula\, John van Lierop\, Tomi Shimon en JuliaDinerstein.In het Beethovenjaar 2020 nam zij samen met pianist Roderigo Robles de Medina de completecellosonates van Ludwig van Beethoven op. Naast haar podiumactiviteiten is Katja ook actiefals pedagoog. Sinds 2016 is zij artistiek leider van het Hellendaal Muziekinstituut in Rotterdamen coacht zij jonge cellotalenten tijdens het Dordrecht Cello Festival.Katja is een veelzijdige musicus die zich niet beperkt tot het klassieke repertoire. Zo werkte zijook mee aan optredens en opnames van Edison-winnares Wende Snijders.Als medeoprichter en vaste celliste van het Lendvay Ensemble treedt zij op in binnen- enbuitenland \n\n\n\nAxel Wenstedt  (klavecimbel/orgel) speelt\, na pianoles bij organist-klavecinist Gerard Dekker sinds 1971 als autodidact orgel en klavecimbel (en later fortepiano). Hij volgde lessen  kamermuziek/lied- begeleiding en barokcursussen. Hij speelde (tot 2011 naast zijn werk) vele honderden concerten als continuospeler en organist. Schuift voor barokmuziek regelmatig aan bij het Lendvay ensemble\, naast zijn vaste ensembles: Brabants Barok Consort\, Octime Nijmegen\, Nyckelharpa Barokconsort\, La Tempesta DenHaag (Harry vd Meer)\, en ad hoc ook olv Lucas Vis en Hans Linnartz (Kleef)\, Zutphen\, Deventer etc. Speelt orgelconcerten in Nederland\, België\, Duitsland (oa bijna jaarlijks in de Bachkirche\, Eisenach)\, Frankrijk\, Wenen en Sion (Zw). Eerder 6 keer boekenmarktconcerten in Deventer\, orgel + diverse ensembles\, dit keer met het Lendvay-ensemble. Tevens programmeerde of organiseerde hij talloze concerten in Sint-Oedenrode (orgel)\, kasteel Heeswijk\, museum Uden\, en Geldrop (Cultuur a/d Dommel). Medewerker bij het GeelvinckMuseum Amsterdam www.geelvinck.nl (fortepianos) Klavecimbel: kopie naar Taskin 1769\, Frank Hubbard/Goop Sterkman 1977\, Onno Peper 2021.
URL:https://bergkerkdeventer.nl/evenement/lendvay-ensemble-viool-cello-klavecimbel-orgel/
CATEGORIES:Barokmuziek
ATTACH;FMTTYPE=image/jpeg:/wp-content/uploads/2025/07/foto-Lendvay-ensemble-vereenvoudigd.jpg
END:VEVENT
BEGIN:VEVENT
DTSTART;TZID=Europe/Amsterdam:20250829T200000
DTEND;TZID=Europe/Amsterdam:20250829T213000
DTSTAMP:20260425T135532
CREATED:20250509T214701Z
LAST-MODIFIED:20250509T215037Z
UID:10000253-1756497600-1756503000@bergkerkdeventer.nl
SUMMARY:Theatermakers Achterhoek - 'De Heks van Almen'
DESCRIPTION:Entree € 30 / 35/ 40 ||  Klik hier voor ticketverkoop\n\n\n\n \n\n\n\nIn 1472 werd op het kerkplein in Almen een van de eerste slachtoffers van de heksenvervolgingen in Nederland levend verbrand. Theatermakers Achterhoek maakte een theatervoorstelling over deze onvoorstelbare gebeurtenis. \n\n\n\nAls Aleyda in haar eigen huis wordt opgepakt en meegesleurd naar een bedompte kerker in Zutphen heeft zij geen idee wat de reden van haar vasthouding is. Pas wanneer haar dochter Greetje haar komt opzoeken wordt het duidelijk: Aleyda\, de eigenzinnige vrouw die haar krachten en kennis van geneeskrachtige kruiden gebruikt bij haar werk als vroedvrouw\, wordt verdacht van hekserij. \n\n\n\nDe heksenverbrandingen hebben grote invloed gehad op de ontwikkeling van onze maatschappij en de positie van vrouwen daarin. Theatermakers Achterhoek zoekt naar het licht in dit gruwelijke verhaal door verleden en heden te mengen. Een must see voor iedereen met een vrije geest. 
URL:https://bergkerkdeventer.nl/evenement/theatermakers-achterhoek-de-heks-van-almen-2/
CATEGORIES:Theater
ATTACH;FMTTYPE=image/png:/wp-content/uploads/2025/04/heksvanalmen.png
END:VEVENT
BEGIN:VEVENT
DTSTART;TZID=Europe/Amsterdam:20250831T150000
DTEND;TZID=Europe/Amsterdam:20250831T163000
DTSTAMP:20260425T135532
CREATED:20250722T095017Z
LAST-MODIFIED:20250722T095349Z
UID:10000271-1756652400-1756657800@bergkerkdeventer.nl
SUMMARY:Henk van Glabbeek & Yvonne Vruggink - "Symphony of compassion"
DESCRIPTION:Entree € 20  ||  Klik hier voor ticketverkoop\n\n\n\n \n\n\n\nEen unieke muzikale ervaring die het hart opent en culturen verbindt \n\n\n\nMulti-instrumentalist\, zanger\, producer en instrumentenbouwer Henk van Glabbeek presenteert in samenwerking diverse muzikale artiesten verschillende versies van de betoverende voorstelling “Symphony of Compassion” – een muzikale reis langs oude culturen en innerlijke landschappen\, die luisteraars verbindt met het hart. \n\n\n\nIn een wereld die steeds sterker gepolariseerd is\, biedt deze bijzondere voorstelling een oase van rust\, verbinding en mededogen. Van Glabbeek verweeft authentieke klanken van traditionele wereldinstrumenten met rijk gelaagde elektronische soundscapes. \n\n\n\nTijdens dit concert worden bezoekers meegenomen op een meditatieve reis naar exotische werelden\, weg uit het hoofd en naar het hart – de plek waar compassie leeft. De muziekstijl laat zich het best omschrijven als moderne\, sferische wereldmuziek met invloeden uit ambient en neoklassieke stromingen.Dit is een zitconcert.15.00-16.30 [deur open vanaf 14.30 uur]
URL:https://bergkerkdeventer.nl/evenement/henk-van-glabbeek-yvonne-vruggink-symphony-of-compassion/
CATEGORIES:Concert meditatieve muziek
ATTACH;FMTTYPE=image/jpeg:/wp-content/uploads/2024/10/henkyvonne-scaled.jpeg
END:VEVENT
END:VCALENDAR