BEGIN:VCALENDAR
VERSION:2.0
PRODID:-//Bergkerk Deventer - ECPv6.15.11//NONSGML v1.0//EN
CALSCALE:GREGORIAN
METHOD:PUBLISH
X-WR-CALNAME:Bergkerk Deventer
X-ORIGINAL-URL:https://bergkerkdeventer.nl
X-WR-CALDESC:Evenementen voor Bergkerk Deventer
REFRESH-INTERVAL;VALUE=DURATION:PT1H
X-Robots-Tag:noindex
X-PUBLISHED-TTL:PT1H
BEGIN:VTIMEZONE
TZID:Europe/Amsterdam
BEGIN:DAYLIGHT
TZOFFSETFROM:+0100
TZOFFSETTO:+0200
TZNAME:CEST
DTSTART:20230326T010000
END:DAYLIGHT
BEGIN:STANDARD
TZOFFSETFROM:+0200
TZOFFSETTO:+0100
TZNAME:CET
DTSTART:20231029T010000
END:STANDARD
BEGIN:DAYLIGHT
TZOFFSETFROM:+0100
TZOFFSETTO:+0200
TZNAME:CEST
DTSTART:20240331T010000
END:DAYLIGHT
BEGIN:STANDARD
TZOFFSETFROM:+0200
TZOFFSETTO:+0100
TZNAME:CET
DTSTART:20241027T010000
END:STANDARD
BEGIN:DAYLIGHT
TZOFFSETFROM:+0100
TZOFFSETTO:+0200
TZNAME:CEST
DTSTART:20250330T010000
END:DAYLIGHT
BEGIN:STANDARD
TZOFFSETFROM:+0200
TZOFFSETTO:+0100
TZNAME:CET
DTSTART:20251026T010000
END:STANDARD
BEGIN:DAYLIGHT
TZOFFSETFROM:+0100
TZOFFSETTO:+0200
TZNAME:CEST
DTSTART:20260329T010000
END:DAYLIGHT
BEGIN:STANDARD
TZOFFSETFROM:+0200
TZOFFSETTO:+0100
TZNAME:CET
DTSTART:20261025T010000
END:STANDARD
BEGIN:DAYLIGHT
TZOFFSETFROM:+0100
TZOFFSETTO:+0200
TZNAME:CEST
DTSTART:20270328T010000
END:DAYLIGHT
BEGIN:STANDARD
TZOFFSETFROM:+0200
TZOFFSETTO:+0100
TZNAME:CET
DTSTART:20271031T010000
END:STANDARD
END:VTIMEZONE
BEGIN:VEVENT
DTSTART;TZID=Europe/Amsterdam:20260228T200000
DTEND;TZID=Europe/Amsterdam:20260228T213000
DTSTAMP:20260425T020536
CREATED:20260108T134426Z
LAST-MODIFIED:20260113T170331Z
UID:10000305-1772308800-1772314200@bergkerkdeventer.nl
SUMMARY:Symphony of Compassion - Henk van Glabbeek & Yvonne Vruggink
DESCRIPTION:Entree € 20 (normaal) / € 25 (support)  ||  Klik hier voor ticketverkoop\n\n\n\nSymphony of Compassion is meer dan een concert — het is een beleving. Een muzikale reis langs culturen en emoties\, verbonden door één universele taal: compassie.Laat je meevoeren door betoverende melodieën uit alle windstreken\, verweven met prachtige samenzang. Muziek die raakt\, verbindt en herinnert dat ons hart overal ter wereld hetzelfde klopt.De veelzijdige Henk van Glabbeek bespeelt een unieke verzameling instrumenten uit oude wereldculturen\, gecombineerd met zijn zelf gecomponeerde\, gelaagde soundscapes. Samen met multi-instrumentalist Yvonne Vruggink ontstaat een samenzang die niet van deze wereld lijkt. Omdat hun muziek grotendeels intuïtief ontstaat\, is elk concert uniek — een levend moment van inspiratie en verbinding. In dit concert zullen nieuwe composities voor het eerst te horen zijn.In de SYMPHONY OF COMPASSION ontmoeten Oost en West elkaar. Neo klassieke\, ambient muziek stijlen en wereldmuziek vloeien samen tot een harmonisch geheel dat opent\, raakt en inspireert.Beleef het zelf.Ontdek de magie van de Symphony of Compassion — een muzikale reis naar het hart. \n\n\n\nDit is een zitconcert \n\n\n\nAanvang: 20.00 uur
URL:https://bergkerkdeventer.nl/evenement/symphony-of-compassion-henk-van-glabbeek-yvonne-vruggink-3/
CATEGORIES:Concert meditatieve muziek
ATTACH;FMTTYPE=image/jpeg:/wp-content/uploads/2024/10/henkyvonne-scaled.jpeg
ORGANIZER;CN="Culture Bridge Media":MAILTO:henkvanglabbeek@hotmail.com
END:VEVENT
BEGIN:VEVENT
DTSTART;TZID=Europe/Amsterdam:20241126T200000
DTEND;TZID=Europe/Amsterdam:20241126T210000
DTSTAMP:20260425T020536
CREATED:20241015T102441Z
LAST-MODIFIED:20241113T102220Z
UID:10000203-1732651200-1732654800@bergkerkdeventer.nl
SUMMARY:"Symphony of Compassion" - Henk van Glabbeek & Emrah Oguztürk
DESCRIPTION:Voorverkoop € 15 /  Klik hier voor ticketverkoop\n\n\n\n \n\n\n\nCompassion Concerts zijn meditatieve\, sferische zit- ligconcerten georganiseerd door de multi-instrumentalist en producer Henk van Glabbeek\, oprichter van de One World Jam en bevriende muzikanten. Zijn intentie met deze concerten is om de luisteraars mee te nemen naar het hart\, het gebied van het mededogen. Om een sfeer van verbinding en mededogen te creëren maakt hij al jaren gebruik van de universele taal van de muziek en laat hij zien hoe de samenkomst van verschillende culturen tot inspirerende harmonie kan leiden. \n\n\n\nVoor dit COMPASSION CONCERT heeft Henk van Glabbeek\, zijn goede vriend de virtuoze Oriëntaalse kaval en duduk speler Emrah Oguzturk uitgenodigd. Emrah heeft internationale bekendheid en met zijn onnavolgbare fluitspel neemt hij ons mee naar hogere sferen. Het was Emrah die Henk tijdens een concert\, twaalf jaar geleden\, in de Bergkerk inspireerde om de duduk en de kaval te gaan leren bespelen. Emrah heeft vele beroemde muzikanten begeleid internationaal en projecten gedaan met het Nederlands Blazers Ensemble. Ook zijn zijn eigen composities online te beluisteren met zijn band Roye Ma. \n\n\n\nNiet onbelangrijk is de locatie van het concert\, de prachtige. Bergkerk te Deventer\, gebouwd boven op een rivierduin langs de IJssel en op een kruispunt van vele leylijnen. Hierdoor wordt de beleving van de muziek geïntensiveerd. Ieder concert is uniek waarin veel verschillende snaar-en blaasinstrumenten uit oude wereldculturen worden bespeeld. Deze instrumenten nemen je mee op reis naar verschillende sferen weg van de onrust in het hoofd naar de volheid in het hart. \n\n\n\nDe signatuur van de composities van Henk van Glabbeek is uniek. Je zou het kunnen beschrijven als contemporary worldmusic met ambient en neo klassieke invloeden. Naast zijn stem en zijn vele wereldinstrumenten maakt hij gebruik van ambient en neo klassieke soundscapes die hij zelf heeft gecomponeerd. Hij put uit 46 jaar ervaring in het spelen van mystieke muziek. Hij zingt oude Sanskriet mantra’s en teksten van Rumi. \n\n\n\nHet zijn zit/lig concerten. Mocht je willen liggen neem dan zelf daarvoor een matje mee. \n\n\n\nHet concert is ook zeer geschikt om als belevingsgeschenk aan een dierbare te geven. \n\n\n\nDeur open om 19.30 concert start 20.00 uur
URL:https://bergkerkdeventer.nl/evenement/symphony-of-compassion-henk-van-glabbeek-yvonne-vruggink-2/
CATEGORIES:Concert meditatieve muziek
ATTACH;FMTTYPE=image/png:/wp-content/uploads/2024/10/emrahhenk.png
ORGANIZER;CN="Culture Bridge Media":MAILTO:henkvanglabbeek@hotmail.com
END:VEVENT
BEGIN:VEVENT
DTSTART;TZID=Europe/Amsterdam:20240927T200000
DTEND;TZID=Europe/Amsterdam:20240927T210000
DTSTAMP:20260425T020536
CREATED:20240821T093524Z
LAST-MODIFIED:20240821T164856Z
UID:10000193-1727467200-1727470800@bergkerkdeventer.nl
SUMMARY:"Symphony of Compassion" - Henk van Glabbeek & Yvonne Vruggink
DESCRIPTION:€ 15 / Klik hier voor ticketverkoop\n\n\n\n \n\n\n\nVrijdagavond 27-09-2024 weer een prachtig sferisch zit – lig concert de SYMPHONY OF COMPASSION in de bijzondere Bergkerk te Deventer. Yvonne Vruggink en Henk van Glabbeek spelen daar weer een concert. Zij brengen prachtige samenzang en bijzondere instrumenten van over de hele wereld\, o.a. strijk- en blaasinstrumenten uit Perzië\, India\, Armenië\, Japan\, het Midden-Oosten etc. gecombineerd met meditatieve soundscapes met ambient en neo klassieke invloeden. De werking van de muziek wordt bekrachtigd door de prachtige akoestiek en sfeer van de Deventer Bergkerk die is gebouwd op het centrum van leylijnen boven op een rivierduin. \n\n\n\nHenk van Glabbeek organiseert COMPASSION CONCERTS met de intentie om de aanwezigen mee te nemen uit het hoofd naar het hart. Het is in de stilte van het hart waar we de kernwaarden als liefde en mededogen vinden. De wereld om ons heen is steeds moeilijker te bevatten met ons hoofd. Het leed in de wereld in zijn vele vormen is te overweldigend om een plek te geven in ons hoofd met gevaar dat het ons depressief of onverschillig zou kunnen maken. In de zachtheid en liefde van het hart hebben we de mogelijkheid om het leed in de wereld een plek te geven en zicht te krijgen waar onze cirkel van invloed ligt om een bijdrage te leveren aan een mooiere wereld. Dit begint bij eenieder van ons hoe klein dan ook. De SYMPHONY OF COMPASSION is een concert dat de luisteraar meeneemt naar diepe emoties en verstilling. \n\n\n\nHenk van Glabbeek en Yvonne Vruggink spelen al jaren samen op plekken zoals tempels\, kerken en talrijke spirituele events en ceremonies. Hierdoor zijn ze muzikaal diep verbonden op een intuïtieve wijze. Dit maakt dat ieder concert uniek is met een prachtige eigen signatuur. Mocht je willen liggen neem dan je eigen matje etc. mee. Er staan ook stoelen klaar voor degene die willen zitten \n\n\n\nVoor tickets: https://ticketl.ink/8z7Wy
URL:https://bergkerkdeventer.nl/evenement/symphony-of-compassion-henk-van-glabbeek-yvonne-vruggink/
CATEGORIES:Concert meditatieve muziek
ATTACH;FMTTYPE=image/jpeg:/wp-content/uploads/2024/08/henkyvonne-scaled.jpeg
ORGANIZER;CN="Culture Bridge Media":MAILTO:henkvanglabbeek@hotmail.com
END:VEVENT
BEGIN:VEVENT
DTSTART;TZID=Europe/Amsterdam:20240619T200000
DTEND;TZID=Europe/Amsterdam:20240619T210000
DTSTAMP:20260425T020536
CREATED:20240327T120623Z
LAST-MODIFIED:20240612T125705Z
UID:10000171-1718827200-1718830800@bergkerkdeventer.nl
SUMMARY:"Into the mystic" - Henk van Glabbeek\, Emrah Oğuztürk & Maringo Bérénos
DESCRIPTION:Entree € 15 /  Klik hier voor ticketverkoop\n\n\n\n \n\n\n\nWoensdagavond 19 juni wordt er weer een heel bijzonder sferisch meditatief concert in de prachtige Bergkerk gespeelt. De multi-instrumentalist en oprichter van de ONE WORLD JAM Henk van Glabbeek speelt deze keer met zijn grote inspirator\, als het gaat om instrumenten als de Armeense Duduk en Bulgaarse Kaval\, Emrah Oguzturk. Emrah is een meester op deze blaasinstrumenten. Hij heeft met vele beroemde muzikanten samengespeeld. Jaren geleden hebben Emrah en Henk elkaar voor het eerst ontmoet tijdens een concert van Emrah in de Bergkerk. Nu eindelijk is het moment daar dat ze samen met de gitarist Maringo Bérénos in diezelfde Bergkerk een concert gaan spelen. \n\n\n\nMaringo heeft een compleet eigen stijl van gitaar spelen die moeilijk in woorden te omschrijven valt maar weergaloos samenvalt met de wereldinstrumenten van Henk en Emrah. \n\n\n\nUiteraard komt Henk weer met een prachtige collectie snaar en blaasinstrumenten uit oude wereldculturen. Daarnaast combineert hij die bijzondere instrumenten met het zingen van Sanskriet en Perzische teksten. \n\n\n\nHet beloofd een uniek concert te worden met de intentie om je mee te nemen op een reis naar het hart. Even weg uit het de gedachten die in deze tijd zo overspoeld worden door heftige berichten en snelle sociale media. \n\n\n\nHet is een zit- ligconcert. Mocht je willen liggen neem dan daarvoor je eigen spulletjes mee. \n\n\n\nDit concert is ook zeer geschikt om als een beleving cadeau te geven aan een dierbare. \n\n\n\nTijd: 20.00 uur deuren open 19.30 uur \n\n\n\n \n\n\n\n\n\n 
URL:https://bergkerkdeventer.nl/evenement/into-the-mystic-bergkerk-henk-van-glabbeek-2/
CATEGORIES:Concert meditatieve muziek
ATTACH;FMTTYPE=image/jpeg:/wp-content/uploads/2024/03/19-6-24-scaled.jpeg
ORGANIZER;CN="Culture Bridge Media":MAILTO:henkvanglabbeek@hotmail.com
END:VEVENT
BEGIN:VEVENT
DTSTART;TZID=Europe/Amsterdam:20240417T200000
DTEND;TZID=Europe/Amsterdam:20240417T210000
DTSTAMP:20260425T020536
CREATED:20240229T110410Z
LAST-MODIFIED:20240409T105020Z
UID:10000165-1713384000-1713387600@bergkerkdeventer.nl
SUMMARY:"Into the mystic" - Henk van Glabbeek
DESCRIPTION:Entree € 15 /  Klik hier voor ticketverkoop\n\n\n\n \n\n\n\nINTO THE MYSTIC is een concert serie van meditatieve muziek die ik mag geven in één van Nederlands mooiste kerken de BERGKERK te Deventer gebouwd op een krachtig kruispunt van leylijnen. Deze vinden plaats op iedere derde woensdagavond van de maand. Ieder concert is uniek met een rijke afwisseling aan prachtige instrumenten.  \n\n\n\nMuziek wordt al duizenden jaren gebruikt als medium in meditatie\, om te verstillen en zo weg te reizen uit de drukte in hoofd.    \n\n\n\nMeer dan 46 jaar heb ik mijn verdiept in de mystiek van de muziek. Hier zie je mij als jonge Bhakti monnik op verschillende Indiase instrumenten al mantra zingend. Mijn reizen in India\, Iran etc. hebben mijn passie voor wereldmuziek aangewakkerd.   \n\n\n\nIk ben dankbaar dat via de ONE WORLD JAM sessies met wereldmuziek er vele bijzondere instrumenten uit oude spirituele wereld tradities op mijn pad zijn gekomen. Alleen al de prachtige klanken van deze snaar en blaasinstrumenten nemen je mee naar andere sferen.   \n\n\n\nVanaf woensdagavond 17 april  20.00 tot 21.30 uur nodig ik jullie uit om met mij op reis te gaan in muziek naar het hart.   \n\n\n\nBergkerkplein 1  \n\n\n\nDeventer.   \n\n\n\nDeuren open 19.30 uur   \n\n\n\nConcert start: 20.00 tot 21.30  \n\n\n\n  \n\n\n\n\n\n 
URL:https://bergkerkdeventer.nl/evenement/into-the-mystic-bergkerk-henk-van-glabbeek/
CATEGORIES:Concert meditatieve muziek
ATTACH;FMTTYPE=image/jpeg:/wp-content/uploads/2024/02/pr.-April.jpg
ORGANIZER;CN="Culture Bridge Media":MAILTO:henkvanglabbeek@hotmail.com
END:VEVENT
BEGIN:VEVENT
DTSTART;TZID=Europe/Amsterdam:20240223T200000
DTEND;TZID=Europe/Amsterdam:20240223T210000
DTSTAMP:20260425T020536
CREATED:20240105T231657Z
LAST-MODIFIED:20240126T135648Z
UID:10000157-1708718400-1708722000@bergkerkdeventer.nl
SUMMARY:"Symphony of Compassion II" - Henk van Glabbeek & Yvonne Vruggink
DESCRIPTION:Entree € 15 / klik hier voor kaartverkoop\n\n\n\n \n\n\n\nVrijdagavond 23-2-2024 spelen Henk van Glabbeek en Yvonne Vruggink weer een SYMPHONY OF COMPASSION in de prachtige Bergkerk te Deventer. \n\n\n\nIn een wereld vol gebeurtenissen die niet met het hoofd te bevatten zijn nemen Yvonne en Henk met hun muziek de aanwezigen mee naar het hart\, de plek waar kernwaarden als liefde en mededogen wonen. \n\n\n\nHun concerten hebben een unieke signatuur met neo-klassieke invloeden gecombineerd met prachtige snaar- en blaasinstrumenten vanuit oude spirituele tradities van oude culturen. Ook zingen zij samen prachtige harmonieën. \n\n\n\nHet concert is speciaal gecomponeerd voor de sfeer en akoestiek van de Bergkerk. Het is bekend dat de Bergkerk is gebouwd op krachtige aardlijnen die samenkomen op deze rivierduin. Dit maakt de beleving van de muziek nog dieper. \n\n\n\nHet is een zit/ligconcert. Wie dat wil kan een matje en een fleecedeken of zoiets meenemen\, zodat hij of zijn het concert liggend kan beluisteren. Wie liever op een stoel zit kan zitten op de stoelen die in de kerk aanwezig zijn. \n\n\n\nHet concert is ook een leuk cadeau voor een vriend of een dierbare die je wilt verrassen. Vanuit ervaring is gebleken dat onze muziek boeiend is voor alle generaties. \n\n\n\nDeuren open vanaf 19.30 uur \n\n\n\nConcert start: 20.00 uur
URL:https://bergkerkdeventer.nl/evenement/the-symphony-of-compassion-ii-henk-van-glabbeek-yvonne-vruggink/
CATEGORIES:Concert meditatieve muziek
ATTACH;FMTTYPE=image/jpeg:/wp-content/uploads/2023/05/1.pr-Yvonne-Henk-scaled-e1704569242606.jpeg
ORGANIZER;CN="Culture Bridge Media":MAILTO:henkvanglabbeek@hotmail.com
END:VEVENT
END:VCALENDAR