BEGIN:VCALENDAR
VERSION:2.0
PRODID:-//Bergkerk Deventer - ECPv6.15.11//NONSGML v1.0//EN
CALSCALE:GREGORIAN
METHOD:PUBLISH
X-ORIGINAL-URL:https://bergkerkdeventer.nl
X-WR-CALDESC:Evenementen voor Bergkerk Deventer
REFRESH-INTERVAL;VALUE=DURATION:PT1H
X-Robots-Tag:noindex
X-PUBLISHED-TTL:PT1H
BEGIN:VTIMEZONE
TZID:Europe/Amsterdam
BEGIN:DAYLIGHT
TZOFFSETFROM:+0100
TZOFFSETTO:+0200
TZNAME:CEST
DTSTART:20220327T010000
END:DAYLIGHT
BEGIN:STANDARD
TZOFFSETFROM:+0200
TZOFFSETTO:+0100
TZNAME:CET
DTSTART:20221030T010000
END:STANDARD
BEGIN:DAYLIGHT
TZOFFSETFROM:+0100
TZOFFSETTO:+0200
TZNAME:CEST
DTSTART:20230326T010000
END:DAYLIGHT
BEGIN:STANDARD
TZOFFSETFROM:+0200
TZOFFSETTO:+0100
TZNAME:CET
DTSTART:20231029T010000
END:STANDARD
BEGIN:DAYLIGHT
TZOFFSETFROM:+0100
TZOFFSETTO:+0200
TZNAME:CEST
DTSTART:20240331T010000
END:DAYLIGHT
BEGIN:STANDARD
TZOFFSETFROM:+0200
TZOFFSETTO:+0100
TZNAME:CET
DTSTART:20241027T010000
END:STANDARD
BEGIN:DAYLIGHT
TZOFFSETFROM:+0100
TZOFFSETTO:+0200
TZNAME:CEST
DTSTART:20250330T010000
END:DAYLIGHT
BEGIN:STANDARD
TZOFFSETFROM:+0200
TZOFFSETTO:+0100
TZNAME:CET
DTSTART:20251026T010000
END:STANDARD
BEGIN:DAYLIGHT
TZOFFSETFROM:+0100
TZOFFSETTO:+0200
TZNAME:CEST
DTSTART:20260329T010000
END:DAYLIGHT
BEGIN:STANDARD
TZOFFSETFROM:+0200
TZOFFSETTO:+0100
TZNAME:CET
DTSTART:20261025T010000
END:STANDARD
END:VTIMEZONE
BEGIN:VEVENT
DTSTART;TZID=Europe/Amsterdam:20251002T200000
DTEND;TZID=Europe/Amsterdam:20251002T213000
DTSTAMP:20260425T014505
CREATED:20250626T145942Z
LAST-MODIFIED:20250626T150253Z
UID:10000258-1759435200-1759440600@bergkerkdeventer.nl
SUMMARY:Natalia Rogantini - 'Nelle Chiese'
DESCRIPTION:Entree € 12 / 6  ||  Klik hier voor ticketverkoop\n\n\n\n \n\n\n\nNatalia Rogantini is een Italiaanse muzikante\, zangeres en improvisator\, die ons in de overweldigende akoestiek van de Bergkerk een solo concert voor orgel en zang brengt. Dit concert maakt deel uit van het project ‘Nelle Chiese’ (‘in de kerken’) en is een werk dat zich beweegt tussen originele minimalistische composities met Italiaanse teksten en improvisatie; een werk dat bijzondere aandacht schenkt aan de verschillende klankkleurmogelijkheden van het orgel in dialoog met de stem\, de stilte en de architectuur van verschillende kerken. Ze trad op in meerdere kerken in Italië en Zwitserland\, dit concert in de Bergkerk is haar primeur in Nederland. \n\n\n\nNaast haar soloproject is KIAN een van haar actieve projecten\, een kwartet dat zich richt op radicale improvisatie\, samen met Pierluigi Foschi op percussie\, Cosimo Fiaschi op sopraansaxofoon en Nicolò Faraglia op elektrische gitaar. Natalia is het project ‘Nelle Chiese’ in 2022 samen met dit kwartet gestart\, waarmee ze zowel geïmproviseerde als originele composities naar de kerken van Noord-Italië en het nabijgelegen Zwitserland brachten. In 2023 toerde ze met haar solo-zangproject in de kerken van Valchiavenna\, Val Bregaglia\, Val Müstair\, Valsot\, Engadina en in 2024 presenteerde ze haar project voor orgel en zang in dezelfde kerken en andere kerken in Zwitserland en Italië. \n\n\n\nSinds 2017 volgt Natalia Rogantini lessen in de Permanent Laboratories of Musical Research van Stefano Battaglia aan de Siena Jazz University en de Accademia Chigiana. In 2021 bracht ze haar solo debuut ‘Quies Silentium’ uit\, een eerbetoon aan de muziek van de Zweedse contrabassist\, componist en mentor Anders Jormin. In hetzelfde jaar werd binnen de Permanent Laboratories of Musical Research ook ‘AWEN’ geboren\, een trioproject met pianist en componist Stefano Battaglia en gitarist Giacomo Zanus\, dat zich bezighoudt met onderzoek naar improvisatie en nieuwe arrangementen van oude traditionele liederen\, werkliederen en ballades in het Gaelic. Giacomo Zanus is trouwens geen onbekende van De Perifeer en bracht op het gelieerde platenlabel Esc.rec. in 2022 het album ‘Inside a frame’ uit\, verkrijgbaar op cassette bij dit concert. \n\n\n\nIn 2023 begon haar samenwerking met Nicholas Remondino en hun eerste gezamenlijke album ‘Tour de Bras en Nunc’ verschijnt in 2025. Samen organiseerden ze in 2024 het ‘Ala Bianca Festival’\, een festival gewijd aan hedendaagse en nieuwe muziek in Piuro\, Valchiavenna (Noord-Italië)\, dat in 2025 wordt herhaald. Ook Nicholas Remondino is hier geen onbekende. Hij stond met het duo ŌTONN al eens in het programma van De Perifeer en is op drie Esc.rec. uitgaven terug te vinden\, die (voor zover nog niet uitverkocht) verkrijgbaar zijn bij dit concert. \n\n\n\nLET OP: Heb je niet genoeg geld voor tickets van €12? Dan koop je discount tickets voor €6. Lees hier meer over de voorwaarden. \n\n\n\n  2 oktober 2025  Deur open: 19:30 uur  Aanvang: 20:00 uur  Bergkerk\, Bergkerkplein 1\, Deventer\, Nederland  Entree: €12 (of €6 als je weinig geld hebt)
URL:https://bergkerkdeventer.nl/evenement/natalia-rogantini-nelle-chiese/
CATEGORIES:Orgel/zang/improvisatie/minimal music
ATTACH;FMTTYPE=image/png:/wp-content/uploads/2025/06/nathalia.png
ORGANIZER;CN="De Perifeer / Harco Rutgers":MAILTO:harco@perifeer.org
END:VEVENT
BEGIN:VEVENT
DTSTART;TZID=Europe/Amsterdam:20241122T200000
DTEND;TZID=Europe/Amsterdam:20241122T213000
DTSTAMP:20260425T014505
CREATED:20240905T093007Z
LAST-MODIFIED:20240905T093007Z
UID:10000200-1732305600-1732311000@bergkerkdeventer.nl
SUMMARY:Bastian Benjamin & Mathilde Nobel (met visuals Max Ligtenberg) – TRY OUT
DESCRIPTION:Klik hier voor ticketverkoop\n\n\n\n \n\n\n\n \n\n\n\nBastian Benjamin en Mathilde Nobel geven een concert in samenwerking met een klassiek zangkoor en de visuals van Max Ligtenberg in de overweldigende akoestiek van de Bergkerk. Voorafgaand is het tweede deel van de tentoonstelling DESTAATVAN te bezichtigen\, die van 19 september t/m 13 oktober te zien is in de Bergkerk. \n\n\n\nMathilde Nobel en Bastian Benjamin zijn beiden werkzaam in de elektronische muziek scene\, hebben een interesse in klassieke zangkunsten en willen het experiment aangaan om deze werelden met elkaar te combineren. Vanuit een intensieve werkperiode zullen de twee producers een nieuw stuk schrijven waarin klassieke zang ondersteund wordt door elektronische muziek. Voor de twee componisten zal dit hun eerste samenwerking zijn én de eerste keer met een koor. Het experiment staat voorop en de akoestiek van de Bergkerk speelt een grote rol. De Bergkerk wordt ook het canvas voor de projecties van Max Ligtenberg om zo deze audiovisuele ervaring te verrijken. \n\n\n\n\n\n\n\n \n\n\n\nMathilde Nobel\n\n\n\nNadat Mathilde Nobel afgestudeerd is van de kunstacademie heeft ze zich steeds meer geconcentreerd op elektronische muziek. Tijdens haar studie heeft ze zichzelf leren produceren waarna ook een verband is ontstaan tussen haar beeldende werken en haar muziek. Indirect legt ze een verband tussen hedendaagse media en onze verhouding tot de geschiedenis. Haar composities bestaat uit verhalende en abstractere muziek. Daarnaast experimenteert Mathilde met haar stemgebruik\, dat soms dient als lead en soms als instrument wordt ingezet. Vanuit haar interesse voor klassieke muziek heeft Mathilde de stap gezet om zich aan te sluiten bij het koor Cappella Breda om haar stemgebruik te verbreden. \n\n\n\n\n\n\n\n \n\n\n\nBastian Benjamin\n\n\n\nBastian Benjamin (Bastiaan van Vuuren) is een veelzijdige artiest die zijn liefde voor storytelling\, clubcultuur en synthesizers combineert. Zijn muziek\, geïnspireerd door jaren 90 electronica\, IDM\, breakbeats\, ambient en modulaire synthesizers kenmerkt zich door rauwe percussieve loops\, abstracte texturen en filmische akkoordenprogressies. Op de Rockacademie in Tilburg verbreedde Bastiaan zijn horizon door de samenwerking aan te gaan met theater\, dans en circus. Na zijn debuutalbum ‘Two Truths’ in 2020 heeft dit geleid tot producties als ‘EXIT’ van Piet van Dycke\, ‘Ripple’ van TeaTime Company en ‘Zenuwslopend’ van Ilse Oostvogels. Club georiënteerde releases op verschillende labels als Who’s Susan en Nerve Collect volgden snel. In mei 2024 bracht Bastian Benjamin zijn tweede album ‘Elixir’ uit. \n\n\n\nMax Ligtenberg\n\n\n\nMax Ligtenberg is een audiovisueel artiest die simpelweg het liefst vette shit maakt. Zijn werk komt met name voort uit de manipulatie van zijn beeldmateriaal\, zowel film als generatief\, en is vaak psychedelisch van aard. Hij past z’n werk vooral toe op elektronische muziek\, variërend van snoeiharde beats tot ambient\, en gebruikt hiervoor steeds nieuwe visuele effecten en beeldmateriaal wat laag voor laag zelf uitlegt hoe het is opgebouwd. Hij is groot fan van het audiovisuele werk van Max Cooper\, Jon Hopkins en Meshuggah. Hij werkte al eerder samen met Bastian Benjamin\, maar bijvoorbeeld ook met Druiprek\, NABER\, Ischa den Blanken en Sacred Sundays.
URL:https://bergkerkdeventer.nl/evenement/bastian-benjamin-mathilde-nobel-met-visuals-max-ligtenberg-try-out/
CATEGORIES:Concert elektronische muziek / ambiënt
ATTACH;FMTTYPE=image/png:/wp-content/uploads/2024/09/afb.png
ORGANIZER;CN="De Perifeer / Harco Rutgers":MAILTO:harco@perifeer.org
END:VEVENT
BEGIN:VEVENT
DTSTART;TZID=Europe/Amsterdam:20241005T200000
DTEND;TZID=Europe/Amsterdam:20241005T213000
DTSTAMP:20260425T014505
CREATED:20240905T091522Z
LAST-MODIFIED:20240905T093515Z
UID:10000199-1728158400-1728163800@bergkerkdeventer.nl
SUMMARY:Doolcirkel & Janko Bartelink
DESCRIPTION:Klik hier voor ticketverkoop\n\n\n\n \n\n\n\nDe Perifeer presenteert twee lokale artiesten die hogere sferen opzoeken in samenspel met de overweldigende akoestiek van de Bergkerk: Janko Bartelink en Doolcirkel. Voorafgaand aan deze twee elektronische live sets is het eerste deel van de tentoonstelling DESTAATVAN te bezichtigen\, die van 19 september t/m 13 oktober te zien is in de Bergkerk. \n\n\n\n\n\n\n\n \n\n\n\nJanko Bartelink\n\n\n\nJanko Bartelink is als beeldend kunstenaar\, muzikant en ondernemer een creatieve duizendpoot die altijd nieuwe horizonnen verkent. Hij is als elektronisch muzikant sinds 20 jaar actief onder zijn eigen naam en onder zijn artiestennaam Hadamard\, met ambient\, electro en hiphop projecten. In de Bergkerk zal hij een atmosferisch klanklandschap neerzetten en daarbij de relatie aangaan met de magistrale reverb van deze prachtige ruimte\, gebruikmakend van modulaire synthesizers\, live percussie elementen en een gezonde dosis improvisatie. \n\n\n\nRecent startte Janko Bartelink zijn eigen platenlabel Subject Matter Records\, waar oa. zijn album Pilgrimage uitgebracht is. \n\n\n\n \n\n\n\n\n\n\n\n \n\n\n\nDoolcirkel\n\n\n\nDe naam verraadt het al: de muziek van Doolcirkel is niet rechtlijnig – eigenlijk is het alles tegelijk. Zacht als fluweel en hard als schuurpapier\, als dagdromen met rauwe randjes. Het brein achter Doolcirkel\, Danny Jeroense\, ontvouwt landschappen waar je als luisteraar licht gedesoriënteerd doorheen beweegt. Hij voert je al improviserend en met minimalistisch en uitdagend geluid mee\, tegen de draad in\, naar een bestemming die geen vaste plek kent: de Doolcirkel. \n\n\n\nDit jaar kwam Doolcirkel in de selectie van Nieuwe Electronische Waar terecht met zijn track ‘13836600118’.
URL:https://bergkerkdeventer.nl/evenement/doolcirkel-janko-bartelink/
CATEGORIES:Concert elektronische muziek / ambiënt
ATTACH;FMTTYPE=image/png:/wp-content/uploads/2024/09/afbld.png
ORGANIZER;CN="De Perifeer / Harco Rutgers":MAILTO:harco@perifeer.org
END:VEVENT
BEGIN:VEVENT
DTSTART;TZID=Europe/Amsterdam:20230721T200000
DTEND;TZID=Europe/Amsterdam:20230721T210000
DTSTAMP:20260425T014505
CREATED:20230427T092459Z
LAST-MODIFIED:20230524T142341Z
UID:10000105-1689969600-1689973200@bergkerkdeventer.nl
SUMMARY:Janneke van der Putten – Cycles : overtones and  glottis attack
DESCRIPTION:Entree € 10\,00/5\,00 / Klik hier voor kaartverkoop\n\n\n\n \n\n\n\n \n\n\n\nTijdens de overzichtstentoonstelling OUT side IN side OUT van beeldend kunstenaar Linda Molenaar vinden vele bijbehorende performances plaats\, verspreid over de tentoonstellingsperiode in de Bergkerk. Daarnaast organiseert De Perifeer deze extra performance van vocalist Janneke van der Putten\, die ons in de tentoonstelling meeneemt in een sonische ontdekkingstocht van de akoestische eigenschappen van de Bergkerk. \n\n\n\nOp een intuïtieve en fysieke manier verkent Janneke van der Putten haar stem als klanktextuur. Ze heeft zich gespecialiseerd in uitgebreide vocale technieken\, waarbij twee of meer geluiden tegelijkertijd worden geproduceerd: grondtonen\, harmonieën\, interferenties – zoals glottis attacks – en ruimtelijke reflecties. Van der Putten gebruikt architectuur als natuurlijke geluidsversterker en als trigger voor echo’s of andere geluidseffecten. In haar site-specific performances gebruikt ze extreme vocale technieken en akoestiek om zich te verhouden tot het hier en nu. Dwalend in de ruimte laat ze het geluid bewegen en genereert zo een dynamische luisterervaring. Haar ritmische en conceptuele benadering van zingen is geïnspireerd door de cycli van de adem\, het lichaam en de aarde. Haar optreden in de Bergkerk wordt uitgevoerd zonder elektrische versterking. Zo richt ze zich op de verkenning van de ruimte zelf: hoe die klinkt\, of die verlicht is of niet\, en waar het publiek zich bevindt. \n\n\n\n\n\n\n\n\n\nJanneke van der Putten is vocalist en beeldend kunstenaar. Haar stem is haar belangrijkste instrument. Momenteel werkt ze als performer en research associate bij Budhaditya Chattopadhyay (IN) als onderdeel van de tentoonstelling Terra Libera\, die in september te zien is in Rijksmuseum Twenthe\, Enschede. Haar solodebuutalbum ‘JNNK’ verschijnt op 21 juni dit jaar. Janneke is autodidact in verschillende uitgebreide vocale technieken en studeerde klassieke Noord-Indiase Dhrupad-zang bij Amelia Cuni en Marianne Svašek (Berlijn & Rotterdam\, 2009 – 2014). Ze voltooide haar MMus in Artistic Research\, Koninklijke Academie van Beeldende Kunsten & Koninklijk Conservatorium (Den Haag\, 2013) en haar BDes in TXT (Textiel)\, Gerrit Rietveld Academie (Amsterdam\, 2009). \n\n\n\nLET OP: Heb je niet genoeg geld voor tickets van €10? Dan koop je discount tickets voor €5. Lees hier meer over de voorwaarden. \n\n\n\n   21 juli 2023   Deur open: 19:30 uur   Aanvang: 20:00 uur   Bergkerk   Entree: €10 (of €5 als je weinig geld hebt) \n\n\n\nEntree € 10\,00/5\,00 / Klik hier voor kaartverkoop
URL:https://bergkerkdeventer.nl/evenement/janneke-van-der-putten-cycles-overtones-and-glottis-attack/
CATEGORIES:Concert
ATTACH;FMTTYPE=image/jpeg:/wp-content/uploads/2023/04/Portrait-2_Janneke-van-der-Putten_Photo-by-Manuel-Stark-2019_web-tiny.jpg
ORGANIZER;CN="De Perifeer / Harco Rutgers":MAILTO:harco@perifeer.org
END:VEVENT
END:VCALENDAR