BEGIN:VCALENDAR
VERSION:2.0
PRODID:-//Bergkerk Deventer - ECPv6.15.11//NONSGML v1.0//EN
CALSCALE:GREGORIAN
METHOD:PUBLISH
X-ORIGINAL-URL:https://bergkerkdeventer.nl
X-WR-CALDESC:Evenementen voor Bergkerk Deventer
REFRESH-INTERVAL;VALUE=DURATION:PT1H
X-Robots-Tag:noindex
X-PUBLISHED-TTL:PT1H
BEGIN:VTIMEZONE
TZID:Europe/Amsterdam
BEGIN:DAYLIGHT
TZOFFSETFROM:+0100
TZOFFSETTO:+0200
TZNAME:CEST
DTSTART:20220327T010000
END:DAYLIGHT
BEGIN:STANDARD
TZOFFSETFROM:+0200
TZOFFSETTO:+0100
TZNAME:CET
DTSTART:20221030T010000
END:STANDARD
BEGIN:DAYLIGHT
TZOFFSETFROM:+0100
TZOFFSETTO:+0200
TZNAME:CEST
DTSTART:20230326T010000
END:DAYLIGHT
BEGIN:STANDARD
TZOFFSETFROM:+0200
TZOFFSETTO:+0100
TZNAME:CET
DTSTART:20231029T010000
END:STANDARD
BEGIN:DAYLIGHT
TZOFFSETFROM:+0100
TZOFFSETTO:+0200
TZNAME:CEST
DTSTART:20240331T010000
END:DAYLIGHT
BEGIN:STANDARD
TZOFFSETFROM:+0200
TZOFFSETTO:+0100
TZNAME:CET
DTSTART:20241027T010000
END:STANDARD
BEGIN:DAYLIGHT
TZOFFSETFROM:+0100
TZOFFSETTO:+0200
TZNAME:CEST
DTSTART:20250330T010000
END:DAYLIGHT
BEGIN:STANDARD
TZOFFSETFROM:+0200
TZOFFSETTO:+0100
TZNAME:CET
DTSTART:20251026T010000
END:STANDARD
BEGIN:DAYLIGHT
TZOFFSETFROM:+0100
TZOFFSETTO:+0200
TZNAME:CEST
DTSTART:20260329T010000
END:DAYLIGHT
BEGIN:STANDARD
TZOFFSETFROM:+0200
TZOFFSETTO:+0100
TZNAME:CET
DTSTART:20261025T010000
END:STANDARD
END:VTIMEZONE
BEGIN:VEVENT
DTSTART;TZID=Europe/Amsterdam:20251207T150000
DTEND;TZID=Europe/Amsterdam:20251207T163000
DTSTAMP:20260425T014015
CREATED:20250701T121606Z
LAST-MODIFIED:20250718T092647Z
UID:10000264-1765119600-1765125000@bergkerkdeventer.nl
SUMMARY:Hanze Projectkoor - 'Rachmaninov Vespers'
DESCRIPTION:Entree € 23 / jongeren 13  ||  Klik hier voor ticketverkoop (vanaf 15-10)\n\n\n\n \n\n\n\n\n\n\n\n \n\n\n\nOud Russisch-orthodoxe melodieën vormen de basis voor een van de meest indrukwekkende a cappella koorwerken ooit gecomponeerd. De dramatische zetting en de symfonische omvang maken het werk wereldwijd zeer geliefd op de concertpodia. Het bestaat uit een reeks psalmen en hymnen\, elk met zijn eigen karakteristieke sfeer\, van vreugdevol en jubelend tot introspectief en contemplatief. \n\n\n\nMet \n\n\n\nHanze Projectkoor \n\n\n\nValeria Boermistrova – alt \n\n\n\no.l.v. Joost Hekel \n\n\n\nEntree: € 23\,00  (tot 25 jaar € 13\,00) \n\n\n\n \n\n\n\nKaarten\n\n\n\nKaarten voor het concert in Deventer op 7 december kunnen vanaf 15 oktober besteld worden.
URL:https://bergkerkdeventer.nl/evenement/hanzeprojectkoor-rachmaninov-vespers/
CATEGORIES:Concert koormuziek
ATTACH;FMTTYPE=image/jpeg:/wp-content/uploads/2025/07/Hanze-Projectkoor-scaled.jpg
ORGANIZER;CN="Hanze Projectkoor":MAILTO:contact@hanzeprojecten.nl
END:VEVENT
BEGIN:VEVENT
DTSTART;TZID=Europe/Amsterdam:20240317T150000
DTEND;TZID=Europe/Amsterdam:20240317T170000
DTSTAMP:20260425T014015
CREATED:20231213T141648Z
LAST-MODIFIED:20240229T111216Z
UID:10000154-1710687600-1710694800@bergkerkdeventer.nl
SUMMARY:Johannes Passion - Hanzeprojectkoor
DESCRIPTION:Entree € 47\,50 /  27\,50 / 12\,50 ||  Klik hier voor ticketverkoop\n\n\n\n \n\n\n\nPrecies 300 jaar na de eerste opvoering nog even overtuigend: Bach’s visioen geïnspireerd door Johannes’ ooggetuigenverslag van het lijdensverhaal. De intense directheid ervan treedt vanaf het allereerste begin aan de dag in de proloog ‘Herr\, unser Herrscher’\, die alles wat nog zal volgen aanstuwt. \n\n\n\n\nsopraan – Bernadeta Astari\n\n\n\nalt – Rosina Fabius\n\n\n\ntenor – evangelist Henk Gunneman\n\n\n\ntenor – aria’s Hugo Maillé\n\n\n\nbas – Christus\, aria’s Pieter Hendriks\n\n\n\nbas – Pilatus Luka den Boer\n\n\n\n\nBarokorkest Graafschapconsort \n\n\n\no.l.v Joost HekelConcert: \n\n\n\n\nZondag 17 maart 15.00 uur Bergkerkplein 1 in Deventer\n\n\n\nKerk open vanaf 14.15 uur\n\n\n\nDuur: ca. 2 uur\n\n\n\n\nKaarten: \n\n\n\n\n1e Rang € 47\,50 – vast stoelnummer met beter zicht en geluid\n\n\n\nRegulier € 27\,50 (aan de kassa € 30\,00) – vrije stoelkeuze\n\n\n\ntot 25 jaar € 12\,50 – vrije stoelkeuze
URL:https://bergkerkdeventer.nl/evenement/johannes-passion-hanzeprojectkoor-2/
CATEGORIES:Concert Passiemuziek
ATTACH;FMTTYPE=image/png:/wp-content/uploads/2023/12/johannes1.png
ORGANIZER;CN="Hanze Projectkoor":MAILTO:contact@hanzeprojecten.nl
END:VEVENT
BEGIN:VEVENT
DTSTART;TZID=Europe/Amsterdam:20231112T150000
DTEND;TZID=Europe/Amsterdam:20231112T163000
DTSTAMP:20260425T014015
CREATED:20230721T142604Z
LAST-MODIFIED:20231012T132351Z
UID:10000117-1699801200-1699806600@bergkerkdeventer.nl
SUMMARY:"Schütz en de Hanze" - Hanze Projectkoor
DESCRIPTION:Klik hier voor ticketverkoop\n\n\n\n \n\n\n\nDe mooiste muziek uit de nadagen van de Hanze. De glanzende nieuwe muziek uit Venetië waaide over naar Hamburg\, de Hanze metropool van het Noorden. Het fameuze Hanze Projectkoor laat deze spannende ontwikkeling horen met dubbelkorige werken in de monumentale Bergkerk met begeleiding van de authentieke trombones en zinken van ensemble I Piffari del Doge. \n\n\n\nConcert door het Hanze Projectkoor m.m.v. ensemble I Piffari del Doge \n\n\n\n\nMarleen Leicher\, Anna Schall – zink\n\n\n\nJoren Elsen\, Kate Rocket\, Joost Swinkels – trombone\n\n\n\nSiebe Henstra – kistorgel\n\n\n\nJoost Hekel – muzikale leiding\n\n\n\n\nmet dubbelkorige werken van Heinrich Schütz\, Giovanni Gabriëli\, Thomas Selle. \n\n\n\nOnder meer: \n\n\n\n\nSchütz: Psalmen Davids “Wie lieblich sind deine Wohnungen” en “Aus der Tiefe rufe ich”\n\n\n\nGabrieli: “O Magnum Mysterium” en “Magnificat”\n\n\n\nSelle: Missa ab 8. Per duos Choros\n\n\n\n\nKaarten € 23\,00 (aan de kassa € 25\,00) tot 25 jaar € 10\,00 \n\n\n\n \n\n\n\nKlik hier voor kaartverkoop
URL:https://bergkerkdeventer.nl/evenement/schutz-en-de-hanze/
CATEGORIES:Concert Barokmuziek
ATTACH;FMTTYPE=image/png:/wp-content/uploads/2023/07/schutzendehanze.png
ORGANIZER;CN="Hanze Projectkoor":MAILTO:contact@hanzeprojecten.nl
END:VEVENT
END:VCALENDAR