BEGIN:VCALENDAR
VERSION:2.0
PRODID:-//Bergkerk Deventer - ECPv6.15.11//NONSGML v1.0//EN
CALSCALE:GREGORIAN
METHOD:PUBLISH
X-ORIGINAL-URL:https://bergkerkdeventer.nl
X-WR-CALDESC:Evenementen voor Bergkerk Deventer
REFRESH-INTERVAL;VALUE=DURATION:PT1H
X-Robots-Tag:noindex
X-PUBLISHED-TTL:PT1H
BEGIN:VTIMEZONE
TZID:Europe/Amsterdam
BEGIN:DAYLIGHT
TZOFFSETFROM:+0100
TZOFFSETTO:+0200
TZNAME:CEST
DTSTART:20220327T010000
END:DAYLIGHT
BEGIN:STANDARD
TZOFFSETFROM:+0200
TZOFFSETTO:+0100
TZNAME:CET
DTSTART:20221030T010000
END:STANDARD
BEGIN:DAYLIGHT
TZOFFSETFROM:+0100
TZOFFSETTO:+0200
TZNAME:CEST
DTSTART:20230326T010000
END:DAYLIGHT
BEGIN:STANDARD
TZOFFSETFROM:+0200
TZOFFSETTO:+0100
TZNAME:CET
DTSTART:20231029T010000
END:STANDARD
BEGIN:DAYLIGHT
TZOFFSETFROM:+0100
TZOFFSETTO:+0200
TZNAME:CEST
DTSTART:20240331T010000
END:DAYLIGHT
BEGIN:STANDARD
TZOFFSETFROM:+0200
TZOFFSETTO:+0100
TZNAME:CET
DTSTART:20241027T010000
END:STANDARD
END:VTIMEZONE
BEGIN:VEVENT
DTSTART;TZID=Europe/Amsterdam:20230630T200000
DTEND;TZID=Europe/Amsterdam:20230630T210000
DTSTAMP:20260425T015357
CREATED:20230523T132536Z
LAST-MODIFIED:20230607T144449Z
UID:10000107-1688155200-1688158800@bergkerkdeventer.nl
SUMMARY:Henk van Glabbeek & Yvonne Vruggink - Symphony of Compassion
DESCRIPTION:Entree € 15\,00 / Klik hier voor ticketverkoop\n\n\n\n \n\n\n\n \n\n\n\nSymphony of Compassion is weer een bijzonder concert van de multi-instrumentalist en producer Henk van Glabbeek dit keer samen met sopraan en multi-instrumentaliste Yvonne Vruggink. Henk speelt vaker in de Bergkerk. Hij weet als geen ander gebruik te maken van de bijzondere akoestiek en de sfeer van de kerk. Dit keer te midden van een prachtige kunst-installatie van Sibyl Heijnen. In deze symfonie is alle muziek door Henk zelf gecomponeerd en gespeeld. Als je je ogen sluit is het alsof je een compleet orkest hoort. De diepe harmonische klanken van de soundscapes combineert Henk met zang en de subtiele klanken van snaar- en blaasinstrumenten van over de hele wereld. Yvonne Vruggink met haar engelachtige stem neemt je mee naar hemelse sferen\, helemaal passend voor de ambiance van de Bergkerk. \n\n\n\nEr komt een scala aan instrumenten voorbij zoals de Indiase sitar en de bansuri fluit\, de Perzische snaar-instrumenten zoals de\, setar en de ney fluit\, de diep melancholische Armeense duduk\, de Japanse shakuhachi fluit de handpan en native fluit. Het wordt een magische muzikale reis naar het hart als de plek waar de compassie woont. \n\n\n\nBij dit concert kun je kiezen om op een stoel te gaan zitten\, maar je mag ook een plekje in de kerk zoeken om te gaan liggen en je zo door de muziek te laten meenemen. Als je dat wilt moet je wel je eigen matje meenemen. \n\n\n\nHet concert vindt plaats op vrijdagavond 30 juni om 20.00 uur. \n\n\n\nDe deuren van de Bergkerk openen 19.15 uur \n\n\n\nAdres: Bergkerkplein 1. Deventer \n\n\n\n \n\n\n\nEntree € 15\,00 / Klik hier voor ticketverkoop
URL:https://bergkerkdeventer.nl/evenement/symphony-of-compassion/
CATEGORIES:Concert
ATTACH;FMTTYPE=image/jpeg:/wp-content/uploads/2023/05/1.pr-Yvonne-Henk-scaled-e1704569242606.jpeg
ORGANIZER;CN="Henk van Glabbeek - musicus en producer":MAILTO:henkvanglabbeek@hotmail.com
END:VEVENT
END:VCALENDAR