BEGIN:VCALENDAR
VERSION:2.0
PRODID:-//Bergkerk Deventer - ECPv6.15.11//NONSGML v1.0//EN
CALSCALE:GREGORIAN
METHOD:PUBLISH
X-WR-CALNAME:Bergkerk Deventer
X-ORIGINAL-URL:https://bergkerkdeventer.nl
X-WR-CALDESC:Evenementen voor Bergkerk Deventer
REFRESH-INTERVAL;VALUE=DURATION:PT1H
X-Robots-Tag:noindex
X-PUBLISHED-TTL:PT1H
BEGIN:VTIMEZONE
TZID:Europe/Amsterdam
BEGIN:DAYLIGHT
TZOFFSETFROM:+0100
TZOFFSETTO:+0200
TZNAME:CEST
DTSTART:20220327T010000
END:DAYLIGHT
BEGIN:STANDARD
TZOFFSETFROM:+0200
TZOFFSETTO:+0100
TZNAME:CET
DTSTART:20221030T010000
END:STANDARD
BEGIN:DAYLIGHT
TZOFFSETFROM:+0100
TZOFFSETTO:+0200
TZNAME:CEST
DTSTART:20230326T010000
END:DAYLIGHT
BEGIN:STANDARD
TZOFFSETFROM:+0200
TZOFFSETTO:+0100
TZNAME:CET
DTSTART:20231029T010000
END:STANDARD
BEGIN:DAYLIGHT
TZOFFSETFROM:+0100
TZOFFSETTO:+0200
TZNAME:CEST
DTSTART:20240331T010000
END:DAYLIGHT
BEGIN:STANDARD
TZOFFSETFROM:+0200
TZOFFSETTO:+0100
TZNAME:CET
DTSTART:20241027T010000
END:STANDARD
END:VTIMEZONE
BEGIN:VEVENT
DTSTART;TZID=Europe/Amsterdam:20230319T153000
DTEND;TZID=Europe/Amsterdam:20230319T170000
DTSTAMP:20260425T045824
CREATED:20230126T220434Z
LAST-MODIFIED:20230217T230444Z
UID:10000086-1679239800-1679245200@bergkerkdeventer.nl
SUMMARY:"Via Crucis" - Huygens Vocaal Ensemble
DESCRIPTION:Op zondag 19 maart 15.30u zingt het Huygens Vocaal Ensemble het programma Via Crucis in de Bergkerk in Deventer. \n\n\n\nDe kruisweg (Via Crucis in het Latijn) is een onderdeel van de traditie van het christelijke Paasfeest. Het is een nabootsing in de vorm van schilderijen of beeldhouwwerken van de lijdensweg van Christus. Het Huygens vocaal Ensemble geeft in dit programma muzikale inhoud aan het lijdensverhaal van Christus. \n\n\n\nHVE volgt niet overal de officiële voorgeschreven gezangen en psalmen\, maar heeft gekozen voor een collectie motetten die goed bij de 14 kruisstatiën van de kruisweg passen. \n\n\n\nZij zingen koorwerken van Bach\, Bruckner\, Tijssen\, Kats-Chernin\, Poulenc\, Byrd en Gesualdo. Stuk voor stuk indrukwekkende composities die op de prachtige locaties schitterend zullen klinken. \n\n\n\nBijzonder in het programma is het werk ‘Mater’ van de Australische componiste Kats-Chernin. Een zes stemmige zetting van Stabat Mater. Voor zover bekend slechts eenmaal eerder uitgevoerd in Nederland. \n\n\n\nHet koor bestaat uit gedreven zangers\, die het beste uit zichzelf willen halen. Het koor heeft een transparante klank\, die goed tot zijn recht komt in de a-capella werken die het vaste bestanddeel van de programmering vormen. Het koor ziet zichzelf graag als ambassadeur voor de hedendaagse klassieke muziek maar put ook uit het traditionele repertoire. \n\n\n\nKaarten voor de concerten kosten € 15\,- (ex. Boekingskosten) in de voorverkoop en € 20\,- aan de kassa. Kaarten zijn te bestellen via de website van het koor: www.huygensmusic.nl
URL:https://bergkerkdeventer.nl/evenement/muziek-voor-de-passietijd-huygens-vocaal-ensemble/
CATEGORIES:Vocaal ensemble
ATTACH;FMTTYPE=image/jpeg:/wp-content/uploads/2023/01/HVE-Amsterdam-persfoto-klein.jpg
END:VEVENT
END:VCALENDAR