BEGIN:VCALENDAR
VERSION:2.0
PRODID:-//Bergkerk Deventer - ECPv6.15.11//NONSGML v1.0//EN
CALSCALE:GREGORIAN
METHOD:PUBLISH
X-WR-CALNAME:Bergkerk Deventer
X-ORIGINAL-URL:https://bergkerkdeventer.nl
X-WR-CALDESC:Evenementen voor Bergkerk Deventer
REFRESH-INTERVAL;VALUE=DURATION:PT1H
X-Robots-Tag:noindex
X-PUBLISHED-TTL:PT1H
BEGIN:VTIMEZONE
TZID:Europe/Amsterdam
BEGIN:DAYLIGHT
TZOFFSETFROM:+0100
TZOFFSETTO:+0200
TZNAME:CEST
DTSTART:20220327T010000
END:DAYLIGHT
BEGIN:STANDARD
TZOFFSETFROM:+0200
TZOFFSETTO:+0100
TZNAME:CET
DTSTART:20221030T010000
END:STANDARD
BEGIN:DAYLIGHT
TZOFFSETFROM:+0100
TZOFFSETTO:+0200
TZNAME:CEST
DTSTART:20230326T010000
END:DAYLIGHT
BEGIN:STANDARD
TZOFFSETFROM:+0200
TZOFFSETTO:+0100
TZNAME:CET
DTSTART:20231029T010000
END:STANDARD
BEGIN:DAYLIGHT
TZOFFSETFROM:+0100
TZOFFSETTO:+0200
TZNAME:CEST
DTSTART:20240331T010000
END:DAYLIGHT
BEGIN:STANDARD
TZOFFSETFROM:+0200
TZOFFSETTO:+0100
TZNAME:CET
DTSTART:20241027T010000
END:STANDARD
BEGIN:DAYLIGHT
TZOFFSETFROM:+0100
TZOFFSETTO:+0200
TZNAME:CEST
DTSTART:20250330T010000
END:DAYLIGHT
BEGIN:STANDARD
TZOFFSETFROM:+0200
TZOFFSETTO:+0100
TZNAME:CET
DTSTART:20251026T010000
END:STANDARD
END:VTIMEZONE
BEGIN:VEVENT
DTSTART;TZID=Europe/Amsterdam:20240302T190000
DTEND;TZID=Europe/Amsterdam:20240302T230000
DTSTAMP:20260425T055529
CREATED:20231006T215239Z
LAST-MODIFIED:20240202T120321Z
UID:10000140-1709406000-1709420400@bergkerkdeventer.nl
SUMMARY:Tangosalon - Jozka "De Viking"
DESCRIPTION:De grootste en moeilijkste afstand die een mens kan afleggen in zijn leven\, is in feite de kleinste\, ongeveer 40 cm van het hoofd naar het hart.Om die te overbruggen moet je durven loslaten\, jezelf overgeven of gaan tangodansen. \n\n\n\nDe salon begint om 19.00uur en eindigt om 23.00uur. \n\n\n\nDe entree bedraagt € 15. Hierbij is een consumptie inbegrepen. Voor aanmelding en vragen Jozka 06-40254547 of mail div@jozkadeviking.nl.
URL:https://bergkerkdeventer.nl/evenement/tangosalon-jozka-de-viking-3/
CATEGORIES:Tangosalon
ATTACH;FMTTYPE=image/png:/wp-content/uploads/2023/08/jozka.png
ORGANIZER;CN="Jozka - 'De Viking'":MAILTO:div@jozkadeviking.nl
END:VEVENT
BEGIN:VEVENT
DTSTART;TZID=Europe/Amsterdam:20231118T190000
DTEND;TZID=Europe/Amsterdam:20231118T230000
DTSTAMP:20260425T055529
CREATED:20230816T095728Z
LAST-MODIFIED:20231020T114405Z
UID:10000127-1700334000-1700348400@bergkerkdeventer.nl
SUMMARY:Tangosalon - Jozka "De Viking"
DESCRIPTION:18.00 uur workshop beginners door Tango Libre. \n\n\n\n1900 uur tot 23.00uur salon. \n\n\n\nOp sommige momenten van ware tangoliefde is de hemel jaloers op wat we op aarde kunnen. Dertig september heerste er een bijzondere tango sfeer. Eerst de workshop : Ervaring voor Beginners door Free en Evert Jan met grote betrokkenheid begeleid. Na het luiden van de kerkklok van 19.00uur\, klapwiekten een tachtigtal tweevleugelen de domus episcopi  binnen. \n\n\n\nOp 1 maart 2015 was een dag van nationale rouw: De Viking gesloopt. Na al die jaren van kwelling en ontberingen konden de oude Viking- bezoekers elkaar nu weer wenend in de armen vallen. \n\n\n\nOp aanwijzing van de bezoekers wordt op 18 november met extra luidsprekers en mengpaneel een aanzienlijk betere geluidskwaliteit bereikt. \n\n\n\nNog een paar nachtjes slapen en dan is de Bergkerk opnieuw mijn huiskamer. \n\n\n\nDoor al die hernieuwde ontmoetingen ben ik zelf niet toegekomen aan dansen. Dat leidt in deze moderne cultuur onherroepelijk tot een schadeclaim. De betreffende danspartners ontvangen van mij een consumptie als gebaar van gevoeligheid . \n\n\n\nIn tangoliefde geschreven\, \n\n\n\nJozka\, diversionist m.v.a. en kunstprojectontwikkelaar. \n\n\n\n06-40254547. \n\n\n\nDe entree bedraagt € 15. Hierbij is een consumptie inbegrepen. Voor aanmelding en vragen Jozka 06-40254547 of mail div@jozkadeviking.nl.
URL:https://bergkerkdeventer.nl/evenement/tangosalon-jozka-de-viking/
CATEGORIES:Tangosalon
ATTACH;FMTTYPE=image/png:/wp-content/uploads/2023/08/jozka.png
ORGANIZER;CN="Jozka - 'De Viking'":MAILTO:div@jozkadeviking.nl
END:VEVENT
BEGIN:VEVENT
DTSTART;TZID=Europe/Amsterdam:20230930T190000
DTEND;TZID=Europe/Amsterdam:20230930T230000
DTSTAMP:20260425T055529
CREATED:20230801T103513Z
LAST-MODIFIED:20230801T104643Z
UID:10000124-1696100400-1696114800@bergkerkdeventer.nl
SUMMARY:Tangosalon - Jozka "De Viking"
DESCRIPTION:Hij\, die niet in wonderen gelooft\, is geen realist\, Jozka “De Viking” presenteert : Argentijnse Tango in de Bergkerk! \n\n\n\nIn onze huidige tumultueuze en polariserende cultuur\, komt de Argentijnse Tango als een verademing de wereld binnen. \n\n\n\nJozka de Viking verzorgt met zijn aloude vertrouwde concept een tweetal Argentijnse Tango Salons in de Bergkerk\, op de zaterdagavonden 30 september en 18 november a.s.. Deze prachtige dans\, die mensen verbindt\, is door de Unesco uitgeroepen tot Immaterieel Cultureel Erfgoed van de mensheid. Elke tangodanser is een bevoorrecht mens. Dansend zonder ingewikkelde kennis\, met volle belangstelling voor de danspartner en met een hart dat voelt als een verborgen zonnetempel. In de pauze Tango op het kerkorgel door Ton Zwartkruis! m.m.v. DJ V.Z.E. \n\n\n\nVoor de fijnproevers\, 2300 tot 200 uur afterparty aan de cocktailbar\, bij Euthalia\, Diepenveenseweg 131. \n\n\n\nDe salon wordt voorafgegaan  met een workshop voor beginners. Deze duurt van 18.00 tot 19.00uur. \n\n\n\nDe salon begint om 19.00uur en eindigt om 23.00uur. \n\n\n\nDe entree bedraagt € 15. Hierbij is een consumptie inbegrepen. Voor aanmelding en vragen Jozka 06-40254547 of mail div@jozkadeviking.nl.
URL:https://bergkerkdeventer.nl/evenement/tangosalon/
CATEGORIES:Tangosalon
ATTACH;FMTTYPE=image/png:/wp-content/uploads/2023/08/jozka.png
ORGANIZER;CN="Jozka - 'De Viking'":MAILTO:div@jozkadeviking.nl
END:VEVENT
END:VCALENDAR