BEGIN:VCALENDAR
VERSION:2.0
PRODID:-//Bergkerk Deventer - ECPv6.15.11//NONSGML v1.0//EN
CALSCALE:GREGORIAN
METHOD:PUBLISH
X-ORIGINAL-URL:https://bergkerkdeventer.nl
X-WR-CALDESC:Evenementen voor Bergkerk Deventer
REFRESH-INTERVAL;VALUE=DURATION:PT1H
X-Robots-Tag:noindex
X-PUBLISHED-TTL:PT1H
BEGIN:VTIMEZONE
TZID:Europe/Amsterdam
BEGIN:DAYLIGHT
TZOFFSETFROM:+0100
TZOFFSETTO:+0200
TZNAME:CEST
DTSTART:20220327T010000
END:DAYLIGHT
BEGIN:STANDARD
TZOFFSETFROM:+0200
TZOFFSETTO:+0100
TZNAME:CET
DTSTART:20221030T010000
END:STANDARD
BEGIN:DAYLIGHT
TZOFFSETFROM:+0100
TZOFFSETTO:+0200
TZNAME:CEST
DTSTART:20230326T010000
END:DAYLIGHT
BEGIN:STANDARD
TZOFFSETFROM:+0200
TZOFFSETTO:+0100
TZNAME:CET
DTSTART:20231029T010000
END:STANDARD
BEGIN:DAYLIGHT
TZOFFSETFROM:+0100
TZOFFSETTO:+0200
TZNAME:CEST
DTSTART:20240331T010000
END:DAYLIGHT
BEGIN:STANDARD
TZOFFSETFROM:+0200
TZOFFSETTO:+0100
TZNAME:CET
DTSTART:20241027T010000
END:STANDARD
END:VTIMEZONE
BEGIN:VEVENT
DTSTART;TZID=Europe/Amsterdam:20230715T110000
DTEND;TZID=Europe/Amsterdam:20230730T170000
DTSTAMP:20260425T031024
CREATED:20230315T131254Z
LAST-MODIFIED:20230630T130551Z
UID:10000096-1689418800-1690736400@bergkerkdeventer.nl
SUMMARY:"OUT SIDE IN SIDE OUT" - Linda Molenaar
DESCRIPTION:Overzichtsexpositie van het 25-jarige oeuvre van Linda Molenaar. \n\n\n\n\n\nKlik hier voor de website van Linda Molenaar\n\n\n\n \n\n\n\n \n\n\n\nHet werk van Linda Molenaar is niet alleen het vervaardigen van een idee in haar hoofd\, het neemt haar hele leven in beslag. Een leven waarin de kunstenaar zich onbekende en soms onbeminde werelden eigen maakt. \n\n\n\nEen cello van mensenhaar\, een tutu van honderden versleten balletschoenen\, een vleugel van duizend pianohamertjes\, ontelbare bovenbeenbotjes van muizen uit braakballen: het materiaal is steeds het vertrekpunt van een ontdekkingstocht. De wonderlijke combinaties van materialen vertellen over grote levensthema’s als symbiose en autonomie\, verwondering en vervreemding\, leven en dood\, troost en hoop. \n\n\n\nHet materiaal waarmee Linda Molenaar haar ideeën vormgeeft bevindt zich op vreemde plaatsen en soms donkere plekken. Om er aan te komen moet er eerst gejaagd worden. Veren\, varkenskiezen\, zijden stropdassen of de huid van een Fries paard; de verzamelde buit wordt meegenomen naar het atelier aan huis. Ambachtelijke technieken zoals het vervaardigen van pruiken of het spinnen van wol worden aangeleerd. Of het atelier verandert in een broednest\, als Linda wekenlang een kippenei probeert uit te broeden met haar eigen lichaamswarmte. \n\n\n\nAllerlei verschillende voorwerpen en elementen van mens en dier\, gecombineerd met protheses en andere ‘hulpstukken’\, worden ontleed\, samengebracht\, ingenaaid en aangekleed tot een wezen op zich. Soms bewoond door het lichaam van de kunstenaar zelf. Linda kruipt dan letterlijk en figuurlijk in haar werk om het in levenden lijve te laten zien. De ontmoeting met het werk is een vervreemdende ervaring. Is dit echt of nep\, is het een dier of een mens\, is het dood of levend? Een spannende confrontatie die leidt tot een verbinding in het nu. \n\n\n\nDe expositie ‘OUT SIDE IN SIDE OUT’ beslaat het zo goed als complete oeuvre van de kunstenaar tot nu. Haar beeldende kunst en performance-kostuums worden tentoongesteld\, performances opnieuw uitgevoerd of op video gepresenteerd. Ook het werk dat Linda Molenaar tijdens internationale residenties maakte is vertegenwoordigd. De kunstenaar ziet de tentoonstelling in Deventer als een binnenlandse residentie. Ze is gedurende de hele tentoonstellingsperiode met een actief atelier aanwezig. \n\n\n\n‘OUT SIDE IN SIDE OUT’ geeft inzicht in de continue ontwikkeling die Linda Molenaar doormaakte van haar vormende jaren op de kunstacademie in Kampen\, via de performance opleiding DasArts in Amsterdam tot aan haar opleiding tot Natuurgids in Alkmaar. Het onderzoeken van de verhouding tussen mens en natuur is daarin een belangrijke leidraad.  \n\n\n\nTijdens de tentoonstelling zijn er een aantal live-performances door Linda Molenaar : \n\n\n\nZondag 16 juli  Opening 15.00 uur  Openingswoord door Barbara de Coninck 15.15  Presentatie boek over het 25-jarige oeuvre van Linda Molenaar\, een uitgave van uitgeverij Jap Sam Books\, boekontwerp van Eva van der Schans/InEdition 15.30 Performance met Ernst Reijseger \n\n\n\nWoensdag 19 juli 15.00 uur  Bombus  + rondleiding door Linda Molenaar \n\n\n\nZaterdag 22 juli 15.00 uur  Molare \n\n\n\nZondag 23 juli 15.00 uur  Zwaanshals \n\n\n\nWoensdag 26 juli 15.00 uur  Paardenhoofd + rondleiding door Linda Molenaar \n\n\n\nVrijdag 28 juli 15.00 uur  Oud Paard \n\n\n\nZaterdag 29 juli 15.00 uur  Spinnende Schaap \n\n\n\nZondag 30 juli 15.00 uur  Disco-Teek  \n\n\n\n  \n\n\n\n \n\n\n\nDe expositie wordt begeleid door een Engelstalige overzichtscatalogus uitgegeven door Jap Sam Books.  \n\n\n\n \n\n\n\n \n\n\n\nDe Engelstalige overzichtscatalogus ‘OUT SIDE IN SIDE OUT’ is mede mogelijk gemaakt door :   \n\n\n\nPrins Bernhard Cultuurfonds / Tijlfonds (NL)       \n\n\n\nStichting Stokroos (NL)  \n\n\n\nJap Sam Books  www.japsambooks.nl \n\n\n\n \n\n\n\n \n\n\n\nDe expositie is mede mogelijk gemaakt door : \n\n\n\nJeannette Hollaar fonds \n\n\n\nStichting Wesselings – van Breemen \n\n\n\nStichting dEVENTer \n\n\n\nDe Perifeer www.perifeer.org \n\n\n\n \n\n\n\nKorte Bio: \n\n\n\nLinda Molenaar woont en werkt in Nederland\, Amsterdam. Haar oeuvre bestaat voornamelijk uit sculpturen en performances. Ze studeerde in 2009 af met een 2-jarige performance master aan de Amsterdamse Hogeschool voor de Kunsten (DasArts). Na haar afstuderen aan de Kunstacademie in 1997 op Beeldhouwkunst liep ze stage in België bij de kunstenaar Jan Fabre. Ze heeft tentoongesteld in Duitsland\, Frankrijk\, België\, Ierland\, Schotland\, Zwitserland\, Slovenië\, Kroatië en de VS. In 2014 en 2015 nam ze deel aan residenties in Zuid-Korea (‘Natura Art’ Yatoo)\, Noorwegen (Kunstnarhuset Messen)\, Land Art Biennale Kjerringøy)\, en in de VS: Skowhegan 2007\, Sculpture Space 2015 en Art Omi 2016\, I- Park 2011/2013/2019. Ze verdient haar brood met lesgeven aan kunstacademies door heel Nederland en werkt op verschillende afdelingen van Nationale Opera en Ballet van Amsterdam.    \n\n\n\nMede mogelijk gemaakt door het Jeannette Hollaarfonds en het Wesselings-van Breemenfonds
URL:https://bergkerkdeventer.nl/evenement/out-side-in-side-out/
CATEGORIES:Expositie
ATTACH;FMTTYPE=image/jpeg:/wp-content/uploads/2023/03/linda1-scaled.jpg
ORGANIZER;CN="Linda Molenaar":MAILTO:linda@lindamolenaar.org
END:VEVENT
END:VCALENDAR