BEGIN:VCALENDAR
VERSION:2.0
PRODID:-//Bergkerk Deventer - ECPv6.15.11//NONSGML v1.0//EN
CALSCALE:GREGORIAN
METHOD:PUBLISH
X-WR-CALNAME:Bergkerk Deventer
X-ORIGINAL-URL:https://bergkerkdeventer.nl
X-WR-CALDESC:Evenementen voor Bergkerk Deventer
REFRESH-INTERVAL;VALUE=DURATION:PT1H
X-Robots-Tag:noindex
X-PUBLISHED-TTL:PT1H
BEGIN:VTIMEZONE
TZID:Europe/Amsterdam
BEGIN:DAYLIGHT
TZOFFSETFROM:+0100
TZOFFSETTO:+0200
TZNAME:CEST
DTSTART:20220327T010000
END:DAYLIGHT
BEGIN:STANDARD
TZOFFSETFROM:+0200
TZOFFSETTO:+0100
TZNAME:CET
DTSTART:20221030T010000
END:STANDARD
BEGIN:DAYLIGHT
TZOFFSETFROM:+0100
TZOFFSETTO:+0200
TZNAME:CEST
DTSTART:20230326T010000
END:DAYLIGHT
BEGIN:STANDARD
TZOFFSETFROM:+0200
TZOFFSETTO:+0100
TZNAME:CET
DTSTART:20231029T010000
END:STANDARD
BEGIN:DAYLIGHT
TZOFFSETFROM:+0100
TZOFFSETTO:+0200
TZNAME:CEST
DTSTART:20240331T010000
END:DAYLIGHT
BEGIN:STANDARD
TZOFFSETFROM:+0200
TZOFFSETTO:+0100
TZNAME:CET
DTSTART:20241027T010000
END:STANDARD
BEGIN:DAYLIGHT
TZOFFSETFROM:+0100
TZOFFSETTO:+0200
TZNAME:CEST
DTSTART:20250330T010000
END:DAYLIGHT
BEGIN:STANDARD
TZOFFSETFROM:+0200
TZOFFSETTO:+0100
TZNAME:CET
DTSTART:20251026T010000
END:STANDARD
END:VTIMEZONE
BEGIN:VEVENT
DTSTART;TZID=Europe/Amsterdam:20240315T200000
DTEND;TZID=Europe/Amsterdam:20240315T210000
DTSTAMP:20260425T015806
CREATED:20240126T170205Z
LAST-MODIFIED:20240223T142622Z
UID:10000162-1710532800-1710536400@bergkerkdeventer.nl
SUMMARY:Benefietconcert voor Oekraïne - Oleg Lysenko
DESCRIPTION:Klik hier voor de website www.musicforukraine.com\n\n\n\n \n\n\n\nSinds het begin van de oorlog\, nu twee jaar geleden\, heeft Oleg Lysenko al meer dan honderd benefietconcerten gegeven voor Oekraïne. Hoewel Oleg inmiddels al ruim de helft van zijn leven in Nederland woont\, is hij geboren en getogen in de Oekraïense regio Poltava en opgeleid als bayanist aan het conservatorium van Kyiv.  \n\n\n\nMet zijn stichting MusicforUkrainezet Oleg zich in voor zijn geboorteland\, door geld in te zamelen voor medische hulpgoederen en andere humanitaire hulp.  \n\n\n\nEntree voor het concert is gratis; een donatie op de dag zelf is heel erg welkom. Als u niet naar het concert kunt komen maar wel wilt doneren\, kan dat ook via onderstaande QR-code of via www.musicforukraine.com.  \n\n\n\nMet de opbrengst van eerdere benefietconcerten heeft Oleg tot nu toe al twee ambulances bij elkaar gespeeld en naar Oekraïne gestuurd. De gehele opbrengst van dit herdenkingsconcert gaat naar een derde goed uitgeruste tweedehands ambulance voor Oekraïne! \n\n\n\n\n\n\n\n \n\n\n\nU kunt ook een donatie doen via onderstaande QR-code :
URL:https://bergkerkdeventer.nl/evenement/benefietconcert-voor-oekraine-veronika-morska-oleg-lysenko/
CATEGORIES:Concert
ATTACH;FMTTYPE=image/png:/wp-content/uploads/2024/01/mfu.png
ORGANIZER;CN="Oleg Lysenko":MAILTO:info@oleglysenko.com
END:VEVENT
BEGIN:VEVENT
DTSTART;TZID=Europe/Amsterdam:20230121T150000
DTEND;TZID=Europe/Amsterdam:20230121T160000
DTSTAMP:20260425T015806
CREATED:20221201T131849Z
LAST-MODIFIED:20230104T123509Z
UID:10000082-1674313200-1674316800@bergkerkdeventer.nl
SUMMARY:Benefietconcert voor Oekraïne
DESCRIPTION:Benefietconcert door accordeonist Oleg Lysenko voor een ambulance in zijn geboortedorp in Oekraïne.
URL:https://bergkerkdeventer.nl/evenement/benefietconcert-voor-oekraine/
LOCATION:Bergkerk\, Bergkerkplein 14\, 7411 EN Deventer\, Deventer\, Netherlands
CATEGORIES:Concert
ATTACH;FMTTYPE=image/jpeg:/wp-content/uploads/2022/12/Schermafbeelding-2022-12-01-134239.jpg
ORGANIZER;CN="Oleg Lysenko":MAILTO:info@oleglysenko.com
END:VEVENT
END:VCALENDAR